BEGIN:VCALENDAR
VERSION:2.0
CALSCALE:GREGORIAN
PRODID:https://kalender.karlsruhe.de/db/termine/
METHOD:PUBLISH
BEGIN:VEVENT
UID:573294
ORGANIZER;CN=Badisches Staatstheater Karlsruhe:MAILTO:kartenservice@staatstheater.karlsruhe.de
LOCATION:Badisches Staatstheater, Großes Haus
SUMMARY:Cavalleria rusticana / Pagliacci
DESCRIPTION;ENCODING=QUOTED-PRINTABLE:von Pietro Mascagni und Ruggero Leoncavallo=0D=0A=0D=0A
URL:https://kalender.karlsruhe.de/db/termine/musik/cavalleria_rusticana_pagliacci
CLASS:PUBLIC
DTSTART:20260520T193000
DTEND:
DTSTAMP:20260420T175526
CATEGORIES:Musik
ATTACH:https://kalender.karlsruhe.de/db/termine/musik/cavalleria_rusticana_pagliacci/file/icon_bsk_2024_digitale_formate_cavalleria-pagliacci_stueckseite_668e8fca2db5c3.60000557.jpg
END:VEVENT

END:VCALENDAR
