BEGIN:VCALENDAR
VERSION:2.0
CALSCALE:GREGORIAN
PRODID:https://kalender.karlsruhe.de/db/termine/
METHOD:PUBLISH
BEGIN:VEVENT
UID:579886
ORGANIZER;CN=Badisches Konservatorium:MAILTO:
LOCATION:Badisches KONServatorium, Musikschule der Stadt Karlsruhe
SUMMARY:Con tutti gli archi
DESCRIPTION;ENCODING=QUOTED-PRINTABLE:Konzert des Fachbereichs Streicher. Es spielen Sch=C3=BClerinnen und  Sch
 =C3=BCler des Badischen KONServatoriums.  Kaiserallee 12c\, Konzertsaal=0D=0A=0D=0A
URL:https://kalender.karlsruhe.de/db/termine/musik/con_tutti_gli_archi
CLASS:PUBLIC
DTSTART:20260520T183000
DTEND:
DTSTAMP:20260311T092608
CATEGORIES:Musik
ATTACH:https://kalender.karlsruhe.de/db/termine/musik/con_tutti_gli_archi/file/icon_AdobeStock_1502537904_Habicht's Adventure.jpg
END:VEVENT

END:VCALENDAR
