BEGIN:VCALENDAR
VERSION:2.0
CALSCALE:GREGORIAN
PRODID:https://kalender.karlsruhe.de/db/termine/
METHOD:PUBLISH
BEGIN:VEVENT
UID:580852
ORGANIZER;CN=KlangKunst in der Hemingway Lounge e. V.:MAILTO:presse@hemingwaylounge.de
LOCATION:Hemingway Lounge in Karlsruhe
SUMMARY:Crime & Strings . „Quartett" . 4. Fall für Commissario Di Bernardo . Konzert mit Krimilesung
DESCRIPTION;ENCODING=QUOTED-PRINTABLE:Natasha Korsakova (Violine & Moderation) . Ira Maria Witoschynskyj (Klavier
 )=0D=0A=0D=0A  Das=C2=A0au=C3=9Fergew=C3=B6hnliche Konzertformat der=C2=A0internati
 onal t=C3=A4tigen Violinistin und Autorin=C2=A0Natasha Korsakova=C2=A0verbi
 ndet rund um den Kriminalroman =E2=80=9EQuartett=E2=80=9C\, dem vierten Fall
  ihres Commissario Di Bernardo\, Lesung\, Moderation und musikalische Interpr
 etation zu einer spannungsvollen B=C3=BChnenform. Als Solistin trat=C2=A0Na
 tasha Korsakova=C2=A0auf f=C3=BCnf Kontinenten auf und wurde unter anderem 
 in Chile und Italien als =E2=80=9EK=C3=BCnstlerin des Jahres=E2=80=9C ausge
 zeichnet. Neben ihrer Konzertt=C3=A4tigkeit hat sie sich mit mehreren erfol
 greichen Kriminalromanen einen Namen gemacht\, die international ver=C3=B6ff
 entlicht und ausgezeichnet wurden. Gemeinsam mit der Pianistin=C2=A0Ira Mar
 ia Witoschynskyj\, einer erfahrenen Kammermusikerin mit breit gef=C3=A4chert
 em Repertoire und zahlreichen Rundfunk- und CD-Aufnahmen\, entsteht ein inte
 nsiver musikalischer Dialog zwischen Violine und Klavier. Die ausgew=C3=A4h
 lten Werke\, die auch im Roman eine Rolle spielen\, verbinden sich mit der li
 terarischen Handlung zu einem atmosph=C3=A4rischen Abend\, der musikalische 
 Interpretation und spannende Erz=C3=A4hlkunst miteinander verkn=C3=BCpft. S
 pannung pur!    =0D=0A =20
URL:https://kalender.karlsruhe.de/db/termine/musik/crime_strings_quartett_4_fall_fur_commissario
CLASS:PUBLIC
DTSTART:20260531T180000
DTEND:20260531T203000
DTSTAMP:20260415T085006
CATEGORIES:Musik
ATTACH:https://kalender.karlsruhe.de/db/termine/musik/crime_strings_quartett_4_fall_fur_commissario/file/icon_260531_HL_pic1_Natasha Korsakova.jpg
END:VEVENT

END:VCALENDAR
