BEGIN:VCALENDAR
VERSION:2.0
CALSCALE:GREGORIAN
PRODID:https://kalender.karlsruhe.de/db/termine/
METHOD:PUBLISH
BEGIN:VEVENT
UID:575074
ORGANIZER;CN=Substage Karlsruhe e.V.:MAILTO:info@substage.de
LOCATION:Substage Karlsruhe e.V.
SUMMARY:CRIPPLED BLACK PHOENIX
DESCRIPTION;ENCODING=QUOTED-PRINTABLE:Special Guest: Temple Fang =0D=0A=0D=0A    Crippled Black Phoenix    wurde 2004 vom
  Multiinstrumentalisten Justin Greaves gegr=C3=BCndet. Das britisches Kolle
 ktiv ist f=C3=BCr seine einzigartige Mischung aus Dark Rock und experimente
 llen Kl=C3=A4ngen bekannt. Sie werden oft als Sch=C3=B6pfer von =E2=80=9EEn
 dzeitballaden=E2=80=9C bezeichnet und erschaffen majest=C3=A4tische Songs\, 
 die sich mit Themen wie Liebe\, Verlust\, Trag=C3=B6die und Erl=C3=B6sung bef
 assen. Ihre Diskografie umfasst ein Dutzend Studioalben\, zahlreiche EPs und
  ist f=C3=BCr ihre mitrei=C3=9Fenden Live-Auftritte bekannt.    Website:   
   https://www.crippledblackphoenix.net/    =0D=0A  Instagram:     https://www.i
 nstagram.com/cbp_444/    =0D=0A  Facebook:     https://www.facebook.com/CBP444 
      Das niederl=C3=A4ndische Quartett     Temple Fang    aus Amsterdam ero
 bert seit 2018 ununterbrochen die B=C3=BChnen\, verzaubert das Publikum mit 
 seinen harten und zugleich eleganten Kompositionen und hat sich einen hervo
 rragenden Ruf als Live-Band erarbeitet\, die stets =C3=BCberzeugt und sich n
 ie wiederholt. Die Band agiert im Wesentlichen als DIY-Kollektiv und verste
 ht sich als lebendiger\, atmender Organismus\, der sich nicht auf =E2=80=9Ede
 finitive=E2=80=9C Versionen seiner Songs beschr=C3=A4nken sollte\, wie sie a
 uf einer Studioaufnahme erscheinen w=C3=BCrden. 2025\, mit einem neuen Album
  im Gep=C3=A4ck\, ging die Band mit neu entdeckter Wut und dem Wunsch\, richt
 ig zu rocken\, auf Tour. Fantastische Riffs\, dreifache Vokalharmonien\, synch
 ronisierte B=C3=A4sse und groovige\, aber harte Drums\, ekstatisch rockend un
 d wahrhaft psychedelisch =E2=80=93 Temple Fang liefert all das mit Liebe. H
 eavy Rock f=C3=BCr Fans von Motorpsycho\, The Grateful Dead\, Hawkwind und He
 ndrix. Rock =E2=80=99n=E2=80=99 Roll als Weg zu spiritueller Freiheit\, gena
 u richtig!  =0D=0A  Instagram:     https://www.instagram.com/templefang/    =0D=0A 
  Facebook:     https://www.facebook.com/templefangband      Einlass: 19:00 
 Uhr    Altersfreigabe: ab 16 Jahren =20
URL:https://kalender.karlsruhe.de/db/termine/musik/crippled_black_phoenix
CLASS:PUBLIC
DTSTART:20260507T200000
DTEND:
DTSTAMP:20250925T175734
CATEGORIES:Musik
ATTACH:https://kalender.karlsruhe.de/db/termine/musik/crippled_black_phoenix/file/icon_large-pr-photo-colour-nocredits.jpg
END:VEVENT

END:VCALENDAR
