BEGIN:VCALENDAR
VERSION:2.0
CALSCALE:GREGORIAN
PRODID:https://kalender.karlsruhe.de/db/termine/
METHOD:PUBLISH
BEGIN:VEVENT
UID:577925
ORGANIZER;CN=KME Karlsruhe Marketing und Event GmbH:MAILTO:info@karlsruhe-event.de
LOCATION:Günther-Klotz-Anlage
SUMMARY:DAS FEST 2026
DESCRIPTION;ENCODING=QUOTED-PRINTABLE:Vier Tage Festival-Stimmung am G=C3=BCnther-Klotz-Anlage: =E2=80=9EDAS FEST
  2026=E2=80=9C bietet top Musik-Acts\, abwechslungsreiche B=C3=BChnenprogram
 me und ein offenes Mitmach-Erlebnis f=C3=BCr alle Generationen. Musikfans u
 nd Festivalg=C3=A4nger d=C3=BCrfen sich auf Sommerfeeling pur freuen.=0D=0A=0D=0A  
   DAS FEST    z=C3=A4hlt mit bis zu     260.000 Besucherinnen und Besuchern
     zu den gr=C3=B6=C3=9Ften Open-Air-Festivals Deutschlands und findet sei
 t     1985    jedes Jahr Ende Juli in der     G=C3=BCnther-Klotz-Anlage    
 in Karlsruhe statt. Auf dem =E2=80=9EMount Klotz=E2=80=9C standen im Laufe 
 der Jahre zahlreiche nationale und internationale K=C3=BCnstlerinnen und K
 =C3=BCnstler auf der B=C3=BChne =E2=80=93 von Pop und Rock bis Indie und Al
 ternative.    Das Festival verfolgt ein besonderes Konzept:     Musik\, Kult
 ur und Unterhaltung f=C3=BCr alle Generationen    \, unabh=C3=A4ngig von Alt
 er oder Budget. Neben den gro=C3=9Fen Konzerten bietet DAS FEST vielf=C3=A4
 ltige Erlebnisbereiche\, darunter einen     Kinder- und Kulturbereich    \, e
 inen     Sportbereich mit dem FEST-Cup    sowie weitere Funsport-Angebote. 
    Erg=C3=A4nzt wird das Programm durch     generationen=C3=BCbergreifende 
 Formate    wie das FEST-Caf=C3=A9\, die Kulturb=C3=BChne und das     Klassik
 -Fr=C3=BChst=C3=BCck am Sonntag    . Die Mischung aus Musik\, Mitmachen und 
 Begegnung macht die besondere FEST-Stimmung aus\, f=C3=BCr die das Event wei
 t =C3=BCber Karlsruhe hinaus bekannt ist.  =0D=0A  Das vollst=C3=A4ndige Progra
 mm und Line-up gibt es unter     www.dasfest.de         .    Foto: KME Karl
 sruhe Marketing und Event GmbH | Foto: J=C3=BCrgen R=C3=B6sner =20
URL:https://kalender.karlsruhe.de/db/termine/musik/das_fest2026n
CLASS:PUBLIC
DTSTART:20260723T000000
DTEND:20260726T000000
DTSTAMP:20260114T083305
CATEGORIES:Musik
ATTACH:https://kalender.karlsruhe.de/db/termine/musik/das_fest2026n/file/icon_DAS_FEST_2025_©_KME_JuergenRoesner_4.jpg
END:VEVENT

END:VCALENDAR
