BEGIN:VCALENDAR
VERSION:2.0
CALSCALE:GREGORIAN
PRODID:https://kalender.karlsruhe.de/db/termine/
METHOD:PUBLISH
BEGIN:VEVENT
UID:577940
ORGANIZER;CN=KME Karlsruhe Marketing und Event GmbH:MAILTO:info@karlsruhe-event.de
LOCATION:Günther-Klotz-Anlage
SUMMARY:DAS FEST AM SEE 2026
DESCRIPTION;ENCODING=QUOTED-PRINTABLE:Entspannte Live-Musik\, Sommerabend und Festivalfeeling am Wasser: DAS FEST 
 AM SEE stimmt mit kostenlosen Konzerten auf DAS FEST ein=0D=0A=0D=0A    DAS FEST AM
  SEE 2026    bringt vom 15. bis 21. Juli 2026 schon sommerliche Open-Air-At
 mosph=C3=A4re in die G=C3=BCnther-Klotz-Anlage. Bei     kostenlosem Eintrit
 t    spielen regionale Bands und K=C3=BCnstler:innen auf der Caf=C3=A9b=C3
 =BChne und sorgen mit Live-Musik f=C3=BCr entspannte Festival-Vibes am Wass
 er.    Musikfans k=C3=B6nnen sich auf abwechslungsreiche Kl=C3=A4nge und lo
 kale Acts freuen\, w=C3=A4hrend das bunte Rahmenprogramm zum Verweilen und E
 ntdecken einl=C3=A4dt. DAS FEST AM SEE ist der perfekte Auftakt\, um gemeins
 am in die Festivaltage rund um das gro=C3=9Fe     DAS FEST    zu starten.  
   Foto: KME Karlsruhe Marketing und Event GmbH | J=C3=BCrgen R=C3=B6sner 
 =20
URL:https://kalender.karlsruhe.de/db/termine/musik/das_fest_am_see2026n
CLASS:PUBLIC
DTSTART:20260715T000000
DTEND:20260721T000000
DTSTAMP:20260114T083306
CATEGORIES:Musik
ATTACH:https://kalender.karlsruhe.de/db/termine/musik/das_fest_am_see2026n/file/icon_DAS_FEST_am_SEE_2025_©_KME_JuergenRoesner_1.jpg
END:VEVENT

END:VCALENDAR
