BEGIN:VCALENDAR
VERSION:2.0
CALSCALE:GREGORIAN
PRODID:https://kalender.karlsruhe.de/db/termine/
METHOD:PUBLISH
BEGIN:VEVENT
UID:580860
ORGANIZER;CN=KlangKunst in der Hemingway Lounge e. V.:MAILTO:presse@hemingwaylounge.de
LOCATION:Hemingway Lounge in Karlsruhe
SUMMARY:„Das Leben im LiederLicht“ . Rainer Markus Wimmer TRIO
DESCRIPTION;ENCODING=QUOTED-PRINTABLE:Rainer Markus Wimmer (voc & g). Franz-Josef Gr=C3=BCmmer (p) . Torsten Steu
 dinger (b)=0D=0A=0D=0A  Das Programm =E2=80=9EDas Leben im LiederLicht=E2=80=9C ste
 ht f=C3=BCr die poetische Liedkunst des Karlsruher Liedermachers     Rainer
  Markus Wimmer    . Seit den 1980er-Jahren schreibt und ver=C3=B6ffentlicht
  er eigene Songs\, die sich durch hintergr=C3=BCndige Texte und eine klare m
 usikalische Handschrift auszeichnen. Seine Lieder beleuchten die Vielfalt u
 nd die Br=C3=BCche des Lebens und verbinden pers=C3=B6nliche Geschichten mi
 t gesellschaftlichen Beobachtungen. Mit Gesang und Gitarre pr=C3=A4sentiert
      Rainer Markus Wimmer    ein Programm\, das sich zwischen klassischer Li
 edermachertradition und moderner Songpoesie bewegt. Begleitet wird er von  
    Franz-Josef Gr=C3=BCmmer    \, dessen Klavierspiel die Lieder mit harmoni
 scher Tiefe und klanglicher Farbigkeit erweitert.     Torsten Steudinger   
  sorgt am Bass f=C3=BCr ein ruhiges\, tragf=C3=A4higes Fundament und erg=C3
 =A4nzt den kammermusikalischen Ensembleklang des Trios. Gemeinsam gestalten
  die drei Musiker ein Programm\, in dem Texte und Musik zu einer atmosph=C3
 =A4rischen Einheit verschmelzen und die erz=C3=A4hlerische Kraft der Lieder
  besonders zur Geltung kommt.  =0D=0A=20
URL:https://kalender.karlsruhe.de/db/termine/musik/das_leben_im_liederlicht_rainer_markus_wimmer_trio
CLASS:PUBLIC
DTSTART:20260627T200000
DTEND:20260627T223000
DTSTAMP:20260415T084654
CATEGORIES:Musik
ATTACH:https://kalender.karlsruhe.de/db/termine/musik/das_leben_im_liederlicht_rainer_markus_wimmer_trio/file/icon_260627_HL_pic1_Trio_Rainer M. Wimmer.jpg
END:VEVENT

END:VCALENDAR
