BEGIN:VCALENDAR
VERSION:2.0
CALSCALE:GREGORIAN
PRODID:https://kalender.karlsruhe.de/db/termine/
METHOD:PUBLISH
BEGIN:VEVENT
UID:581164
ORGANIZER;CN=Messe-Karlsruhe Veranstaltungen:MAILTO:
LOCATION:Konzerthaus / Kongresszentrum Karlsruhe
SUMMARY:Der Herr der Ringe und der Hobbit & The Music of Hans Zimmer
DESCRIPTION;ENCODING=QUOTED-PRINTABLE:=C2=A0=0D=0A=0D=0A  Einlass "Der Herr der Ringe": 15:00 Uhr Beginn: 16:00 Uhr  Einl
 ass "The Music of Hans Zimmer": 19:00 Uhr Beginn: 20:00 Uhr =20
URL:https://kalender.karlsruhe.de/db/termine/musik/der_herr_der_ringe_und_der_hobbit_the
CLASS:PUBLIC
DTSTART:20261218T000000
DTEND:20261219T000000
DTSTAMP:20260422T175614
CATEGORIES:Musik
ATTACH:https://kalender.karlsruhe.de/db/termine/
END:VEVENT

END:VCALENDAR
