BEGIN:VCALENDAR
VERSION:2.0
CALSCALE:GREGORIAN
PRODID:https://kalender.karlsruhe.de/db/termine/
METHOD:PUBLISH
BEGIN:VEVENT
UID:580959
ORGANIZER;CN=Substage Karlsruhe e.V.:MAILTO:info@substage.de
LOCATION:Substage Karlsruhe e.V.
SUMMARY:DESPISED ICON + CARNIFEX
DESCRIPTION;ENCODING=QUOTED-PRINTABLE:+ special guests: Suffocation\, Gates to Hell =C2=A0IMPERICON FESTIVAL prese
 nts DEATH DOMINION EU 2026.=0D=0A=0D=0A  Established in 2002\, Montreal deathcore pi
 oneers Despised Icon return with their seventh full-length album\, Shadow Wo
 rk. The album marks a significant chapter for a band whose core lineup has 
 remained largely unchanged since its inception\, allowing them to stay groun
 ded in the sound and spirit they helped define.    Lyrically\, Shadow Work e
 xplores themes of resilience and inner healing\, drawing inspiration from th
 epsychological process of confronting and integrating one=E2=80=99s darker 
 aspects. It=E2=80=99s a deeply introspective record that reflects both pers
 onal growth and the turbulence of the world around us. Their first new musi
 c in six years\, the album stands as Despised Icon=E2=80=99s most fine-tuned
  and dynamic effort to date\, balancing relentless speed\, crushing grooves\, 
 and morbid melodies\, while remaining true to their signature blend of extre
 me death metal and hardcore grit.    Produced by the band=E2=80=99s own Ale
 x Erian and Eric Jarrin\, Shadow Work was mixed and mastered by Christian Do
 naldson (Cryptopsy\, Shadow of Intent\, Signs of the Swarm)\, with artwork by 
 Eliran Kantor(Hatebreed\, Thy Art Is Murder\, Cavalera).Featuring guest vocal
 s by Matthew Honeycutt (Kublai Khan TX)\, Scott Ian Lewis (Carnifex) and Tom
  Barber(Chelsea Grin\, Darko US)\, Shadow Work will be released on October 31
 \, 2025\, via Nuclear Blast Records.    Grind forever\,    Carnifex:    Nouris
 hed by nightmares and the throbbing pulse of pragmatic terror\, CARNIFEX hav
 e returned with their ninth full-length studio album\, Necromanteum\, out thi
 s fall via Nuclear Blast Records.  =0D=0A  The cover artwork glows with an emer
 ald and lavender fog\; a ghostly energy erupting from the depths of a cemete
 ry. Designed by renowned comic book artist E.M. Gist\, this gateway represen
 ts the questions we ask about what lies on the other side of reality.  =0D=0A  
 Decades ago\, wealthy intellectuals began installing psychomanteum in their 
 homes\; a secret room completely filled with mirrors\, or a single mirror\, an
 d in complete darkness\, in order to speak to the dead in other dimensions\, 
 and gain their knowledge. It was often used as a healing tool to help disso
 lve grief\, or considered a form of prophecy. Necromanteum presents the conc
 ept: what if you could use that kind of room to speak with death\, itself? W
 hat secrets of the world could you uncover from a direct conversation with 
 the grim reaper? Not a monster\, but a fellow intellect.  =0D=0A  The title trac
 k =E2=80=98Necromanteum=E2=80=99 broaches these existential topics - for ex
 ample\, what if it is only a one-way trip? No matter how sure we think we ar
 e\, no one can really know the truth. As is to be expected with classic deat
 h metal and deathcore\, the sound of Necromanteum and the overall musical th
 emes are decidedly riff-driven.  =0D=0A  There=E2=80=99s no shortage of new blo
 od on this record both in the sense of remaining steadily progressive\, but 
 also now with the fresh inclusion of guitarist and song-writer Neal Tiemann
  as a full-time member.  =0D=0A  After existing as a band for over 18 years\, CA
 RNIFEX continue to experiment with fresh song arrangements\, and adding a un
 ique sense of atmosphere to their inherently deathcore foundation. When it 
 came time to record\, these orchestrations were brought to life by film scor
 e composer Spencer Creaghan.  =0D=0A  CARNIFEX fans who love to see the band li
 ve will not be disappointed as there are plenty of exciting tour plans set 
 for the rest of 2023 into 2024\, with new track =E2=80=98Torn In Two=E2=80
 =99 already creating buzz from the band=E2=80=99s last trek on the road.   
  Einlass: 17:30 Uhr    Altersfreigabe: ab 16 Jahren =20
URL:https://kalender.karlsruhe.de/db/termine/musik/despised_icon_carnifex
CLASS:PUBLIC
DTSTART:20261120T183000
DTEND:
DTSTAMP:20260415T175552
CATEGORIES:Musik
ATTACH:https://kalender.karlsruhe.de/db/termine/musik/despised_icon_carnifex/file/icon_large-2---despised-icon-2025---photographer-eric-sanchez.jpg
END:VEVENT

END:VCALENDAR
