BEGIN:VCALENDAR
VERSION:2.0
CALSCALE:GREGORIAN
PRODID:https://kalender.karlsruhe.de/db/termine/
METHOD:PUBLISH
BEGIN:VEVENT
UID:580859
ORGANIZER;CN=KlangKunst in der Hemingway Lounge e. V.:MAILTO:presse@hemingwaylounge.de
LOCATION:Hemingway Lounge in Karlsruhe
SUMMARY:Dies Land ist dein Land! - Musikalischer Protest aus den Bruchzonen der Welt .
DESCRIPTION;ENCODING=QUOTED-PRINTABLE:Maksim Ermachkov (Gesang) . Ullrich Eidenm=C3=BCler=C2=A0 (Moderation)=0D=0A=0D=0A 
  Mit der neuen Reihe     =E2=80=9EDies Land ist dein Land!=E2=80=9C    widm
 et sich die Hemingway Lounge dem musikalischen Protest als Ausdruck gesells
 chaftlicher Erfahrungen und politischer Konflikte. Protestsongs gelten seit
  Jahrzehnten als wichtige Stimme f=C3=BCr Ver=C3=A4nderung\, Freiheit und Wi
 derstand und spiegeln h=C3=A4ufig die Bruchlinien ihrer Zeit wider. Zum Auf
 takt der Reihe ist der russische Liedermacher     Maksim Ermachkov    zu Ga
 st\, dessen k=C3=BCnstlerisches Schaffen eng mit politischen Entwicklungen i
 n seinem Heimatland verbunden ist. Geboren in Leningrad\, wandte sich     Ma
 ksim Ermachkov    fr=C3=BCh der Musik und Literatur zu\, ver=C3=B6ffentlicht
 e mehrere Alben sowie einen Gedichtband und tourte mit seiner Band durch Ru
 ssland. Mit seinem Lied =E2=80=9EStop\, Russland!=E2=80=9C erlangte er inter
 nationale Aufmerksamkeit\, nachdem er =C3=B6ffentlich die Annexion der Krim 
 kritisiert hatte. W=C3=A4hrend des russischen Angriffskrieges engagierte er
  sich f=C3=BCr politische Gefangene und musste schlie=C3=9Flich sein Heimat
 land verlassen. Heute lebt er in Deutschland und setzt seine musikalische A
 rbeit fort. Im Gespr=C3=A4ch mit     Ullrich Eidenm=C3=BCler    berichtet e
 r =C3=BCber seine Erfahrungen mit dem Russland von heute .  =0D=0A=20
URL:https://kalender.karlsruhe.de/db/termine/musik/dies_land_ist_dein_land_musikalischer
CLASS:PUBLIC
DTSTART:20260626T193000
DTEND:20260626T203000
DTSTAMP:20260415T084653
CATEGORIES:Musik
ATTACH:https://kalender.karlsruhe.de/db/termine/musik/dies_land_ist_dein_land_musikalischer/file/icon_260626_HL_pic1_Maksim Ermachkov.jpg
END:VEVENT

END:VCALENDAR
