BEGIN:VCALENDAR
VERSION:2.0
CALSCALE:GREGORIAN
PRODID:https://kalender.karlsruhe.de/db/termine/
METHOD:PUBLISH
BEGIN:VEVENT
UID:581098
ORGANIZER;CN=Messe-Karlsruhe Veranstaltungen:MAILTO:
LOCATION:Kongresszentrum Karlsruhe
SUMMARY:Drei Haselnüsse für Aschenbrödel
DESCRIPTION;ENCODING=QUOTED-PRINTABLE:=C2=A0=0D=0A=0D=0A  Einlass: 18:30 Begin: 19:30 Ende: 21:00 =20
URL:https://kalender.karlsruhe.de/db/termine/musik/drei_haselnusse_fur_aschenbrodel
CLASS:PUBLIC
DTSTART:20261228T000000
DTEND:20261229T000000
DTSTAMP:20260421T175600
CATEGORIES:Musik
ATTACH:https://kalender.karlsruhe.de/db/termine/
END:VEVENT

END:VCALENDAR
