BEGIN:VCALENDAR
VERSION:2.0
CALSCALE:GREGORIAN
PRODID:https://kalender.karlsruhe.de/db/termine/
METHOD:PUBLISH
BEGIN:VEVENT
UID:572560
ORGANIZER;CN=Substage Karlsruhe e.V.:MAILTO:info@substage.de
LOCATION:Substage Karlsruhe e.V.
SUMMARY:DRUNKEN MASTERS
DESCRIPTION;ENCODING=QUOTED-PRINTABLE:DIE DEMONTAGE GEHT WEITER=0D=0A=0D=0A  Zahlreiche ausverkaufte Tourstopps in den le
 tzten Jahren\, schwei=C3=9Fnasse Clubs\, Abriss in der Crowd und kein Ende in
  Sicht - DIE DEMONTAGE GEHT WEITER.  =0D=0A  Joe und Chrissi haben bereits auf 
 zahlreichen B=C3=BChnen in vielen verschiedenen L=C3=A4ndern begeistert - v
 on intimen Clubs bis hin zu gro=C3=9Fen Festivals haben die Drunken Masters
  mit ihrer energiegeladenen B=C3=BChnenpr=C3=A4senz f=C3=BCr unvergessliche
  Konzerterlebnisse gesorgt. Ihr basslastiger Sound und ihre mitrei=C3=9Fend
 e Performance machen sie zu einem der aufregendsten Live-Acts.  =0D=0A  Songs w
 ie "Bier" mit Maxim K.I.Z\, "Hartz 4" & "Gorilla" mit Tarek K.I.Z\, "Blood Ra
 ve" mit 2LADE\, "Rave" mit Eskei83\, "Drucker" mit DEICHKIND und viele weiter
 e wurden millionenfach gestreamt und d=C3=BCrfen in keinem Club und auf kei
 ner Party fehlen. Ihre letzten Releases "Bauchnabelpiercing" mit der $ONO$ 
 CLIQ und =E2=80=9CUndertheker=E2=80=9D mit Nico K.I.Z gingen viral und land
 eten beide jeweils auf Platz 31 der offiziellen deutschen Single Charts. Da
 zu produzierte das Duo unter anderem Songs f=C3=BCr K.I.Z\, KUMMER\, Nura\, Ca
 sper Kraftklub\, den EM-Hit "ZEIT\, DASS SICH WAS DREHT" von $oho Bani und He
 rbert Gr=C3=B6nemeyer und das aktuelle K.I.Z-Album "G=C3=B6rlitzer Park"\, d
 as an der Spitze der Albumcharts landete.    Einlass: 18:30 Uhr    Altersfr
 eigabe: ab 16 Jahren =20
URL:https://kalender.karlsruhe.de/db/termine/musik/drunken_masters
CLASS:PUBLIC
DTSTART:20260424T193000
DTEND:
DTSTAMP:20250728T175720
CATEGORIES:Musik
ATTACH:https://kalender.karlsruhe.de/db/termine/musik/drunken_masters/file/icon_large-dm.jpg
END:VEVENT

END:VCALENDAR
