BEGIN:VCALENDAR
VERSION:2.0
CALSCALE:GREGORIAN
PRODID:https://kalender.karlsruhe.de/db/termine/
METHOD:PUBLISH
BEGIN:VEVENT
UID:578562
ORGANIZER;CN=Messe-Karlsruhe Veranstaltungen:MAILTO:
LOCATION:Kongresszentrum Karlsruhe
SUMMARY:Dschungelbuch - Das Musical
DESCRIPTION;ENCODING=QUOTED-PRINTABLE:=C2=A0=0D=0A=0D=0A      =E2=80=9EDschungelbuch =E2=80=93 das Musical=E2=80=9C      
     Turbulente Dschungel-Action =C3=BCber Freundschaften\, die Grenzen =C3
 =BCberwinden: Im energiegeladenen Musical =E2=80=9EDschungelbuch=E2=80=9C e
 rwacht der Urwald zum Leben. Mogli und seine tierischen Freunde nehmen Klei
 n und Gro=C3=9F mit auf eine abenteuerliche Reise. Eigens komponierte Music
 alhits\, viel Spannung und Humor sorgen f=C3=BCr ein unterhaltsames Live-Erl
 ebnis f=C3=BCr die ganze Familie!        Mit gro=C3=9Fem Herz und viel Temp
 erament setzt das Theater Liberi den zeitlosen Bestseller von Rudyard Kipli
 ng =C3=BCber das mutige Findelkind und den Dschungelbuch-Liebling Balu neu 
 in Szene. Ein beeindruckendes B=C3=BChnenbild\, farbenfrohe Kost=C3=BCme und
  bestens ausgebildete Musicaldarsteller hauchen dem Dschungel Leben ein. Mu
 sikalisch wird dem Publikum einiges geboten: eine groovende Affenbande\, Shi
 r Khan als K=C3=B6nig des Rock 'n' Roll und ein funkiges Finale =E2=80=93 a
 bgerundet durch rasante Choreografien.        Seit =C3=BCber hundert Jahren
  fasziniert die Geschichte vom Findelkind Mogli ganze Generationen. In dem 
 Wolfsrudel um Oberhaupt Akela\, dem herzensguten B=C3=A4ren Balu und dem wei
 sen Panther Baghira hat Mogli eine neue Familie gefunden\, die ihm die Geset
 ze des Dschungels   =0D=0A   lehrt. Aufregende und gro=C3=9Fe Abenteuer stehen 
 bevor\, denn Mogli trifft nicht nur auf eine wilde Affenbande\, sondern auch 
 auf ulkige Geier und die geheimnisvolle Schlange Kaa. Aber der Urwald birgt
  auch Gefahren: Der Tiger Shir Khan f=C3=BCrchtet seine Stellung als K=C3
 =B6nig des   =0D=0A   Dschungels und will das Menschenkind vertreiben. Mogli be
 ginnt sich zu fragen\, wo er eigentlich hingeh=C3=B6rt. Und als ihm dann noc
 h das M=C3=A4dchen mit der roten Blume begegnet\, steht seine Welt endg=C3
 =BCltig auf dem Kopf...   =0D=0A   Infos und Tickets:   =0D=0A   Das Musical dauert
  zwei Stunden inklusive 20 Minuten Pause und ist geeignet f=C3=BCr Zuschaue
 r   =0D=0A   ab vier Jahren. Tickets sind erh=C3=A4ltlich unter       www.theat
 er-liberi.de/tickets      sowie bei allen   =0D=0A   bekannten Vorverkaufsstell
 en      19.12.26: Einlass: 14:00 Uhr Beginn: 15:00 Uhr  20.12.26: Einlass: 
 14:00 Uhr Beginn: 15:00 Uhr =20
URL:https://kalender.karlsruhe.de/db/termine/musik/dschungelbuch_das_musical-1
CLASS:PUBLIC
DTSTART:20261219T000000
DTEND:20261220T000000
DTSTAMP:20260420T175601
CATEGORIES:Musik
ATTACH:https://kalender.karlsruhe.de/db/termine/
END:VEVENT

END:VCALENDAR
