BEGIN:VCALENDAR
VERSION:2.0
CALSCALE:GREGORIAN
PRODID:https://kalender.karlsruhe.de/db/termine/
METHOD:PUBLISH
BEGIN:VEVENT
UID:580673
ORGANIZER;CN=Stadtamt Durlach & OrgelFabrik Kultur in Durlach e V.:MAILTO:
LOCATION:Schlossgarten Durlach
SUMMARY:Durlacher Kultursommer
DESCRIPTION;ENCODING=QUOTED-PRINTABLE:Konzert - Ostgold=0D=0A=0D=0A  OSTGOLD - Musik f=C3=BCr alle      OSTGOLD bereist s
 eit fast zehn Jahren weit entlegene und nah vertraute musikalische Welten. 
 Auf ihren Ausfl=C3=BCgen =C3=BCberschreitet die Band spielerisch die Grenze
 n zwischen =C3=BCberlieferter\, arrangierter und improvisierter Musik.      
  OSTGOLD sind: Christiane Weber (akk)\, Pia Haufler (pos)\, Peter Schmidt (bs
 )\,       Guido Weber (git)\, Hans-Peter Kummer (dr)\, S=C3=B6nke Frank (sax) 
      OSTGOLD im Netz: https://www.ostgold.net/    =20
URL:https://kalender.karlsruhe.de/db/termine/musik/durlacher_kultursommer-1
CLASS:PUBLIC
DTSTART:20260726T190000
DTEND:20260726T214500
DTSTAMP:20260409T112612
CATEGORIES:Stadtleben
ATTACH:https://kalender.karlsruhe.de/db/termine/stadtleben/durlacher_kultursommer-1/file/icon_Bild1.jpg
END:VEVENT

END:VCALENDAR
