BEGIN:VCALENDAR
VERSION:2.0
CALSCALE:GREGORIAN
PRODID:https://kalender.karlsruhe.de/db/termine/
METHOD:PUBLISH
BEGIN:VEVENT
UID:578573
ORGANIZER;CN=Messe-Karlsruhe Veranstaltungen:MAILTO:
LOCATION:Kongresszentrum Karlsruhe
SUMMARY:Eiskönigin 1 & 2 – Musikshow auf Eis 2027
DESCRIPTION;ENCODING=QUOTED-PRINTABLE:=C2=A0=0D=0A=0D=0A  Einlass: 18:00 Uhr Beginn: 19:00 Uhr =20
URL:https://kalender.karlsruhe.de/db/termine/musik/eiskonigin_1_2_musikshow_auf_eis2027n
CLASS:PUBLIC
DTSTART:20270305T000000
DTEND:20270306T000000
DTSTAMP:20260417T175603
CATEGORIES:Musik
ATTACH:https://kalender.karlsruhe.de/db/termine/
END:VEVENT

END:VCALENDAR
