BEGIN:VCALENDAR
VERSION:2.0
CALSCALE:GREGORIAN
PRODID:https://kalender.karlsruhe.de/db/termine/
METHOD:PUBLISH
BEGIN:VEVENT
UID:580857
ORGANIZER;CN=KlangKunst in der Hemingway Lounge e. V.:MAILTO:presse@hemingwaylounge.de
LOCATION:Hemingway Lounge in Karlsruhe
SUMMARY:Eröffnungskonzert . 1. Armenisches Jazz Fest in Karlsruhe & Baden-Baden
DESCRIPTION;ENCODING=QUOTED-PRINTABLE:Ani Aronian (voc) . Vahagn Hayrapetyan (p) . Davit Melkonyan (sax) . Axel K
 =C3=BChn (b) . Julian Losigkeit (d)=0D=0A=0D=0A  Die Hemingway Lounge Karlsruhe er
 =C3=B6ffnet das erste Armenische Jazz Fest Karlsruhe & Baden-Baden mit eine
 m hochkar=C3=A4tigen Konzertabend. Veranstalter ist die Deutsch-Armenische 
 Musikgesellschaft e.V.\, die in diesem Jahr ihr 15-j=C3=A4hriges Bestehen fe
 iert und das Jubil=C3=A4um unter anderem mit diesem neuen Festivalformat be
 geht. Im Mittelpunkt des Abends steht der international gefeierte Pianist  
    Vahagn Hayrapetyan    \, der wegen seiner Virtuosit=C3=A4t und seiner cha
 rismatischen B=C3=BChnenpr=C3=A4senz h=C3=A4ufig als =E2=80=9EJazzk=C3=B6ni
 g Armeniens=E2=80=9C bezeichnet wird. Seine Musik verbindet modernen Jazz m
 it Elementen der armenischen Musiktradition und begeistert Publikum weltwei
 t. In der Hemingway Lounge war er bereits mehrfach zu Gast und sorgte dort 
 regelm=C3=A4=C3=9Fig f=C3=BCr ausverkaufte Konzerte. F=C3=BCr das Festival-
 Er=C3=B6ffnungskonzert hat sich Hayrapetyan mit herausragenden Musikerinnen
  und Musikern zusammengetan: der S=C3=A4ngerin     Ani Aronian    \, dem Sax
 ophonisten     Davit Melkonyan    \, dem Bassisten     Axel K=C3=BChn    und
  dem Schlagzeuger     Julian Losigkeit    . Gemeinsam gestalten sie einen A
 bend\, der virtuose Improvisation\, musikalische Energie und kulturelle Begeg
 nung vereint =E2=80=93 ein besonderer Auftakt f=C3=BCr ein neues Festival\, 
 das den Jazz und die armenische Musiktradition in einen lebendigen Dialog b
 ringt. (kein  =0D=0A=20
URL:https://kalender.karlsruhe.de/db/termine/musik/eroffnungskonzert_1_armenisches_jazz
CLASS:PUBLIC
DTSTART:20260619T200000
DTEND:20260619T223000
DTSTAMP:20260415T084809
CATEGORIES:Musik
ATTACH:https://kalender.karlsruhe.de/db/termine/musik/eroffnungskonzert_1_armenisches_jazz/file/icon_260619_HL_pic2_Ani Aronian.jpg
END:VEVENT

END:VCALENDAR
