BEGIN:VCALENDAR
VERSION:2.0
CALSCALE:GREGORIAN
PRODID:https://kalender.karlsruhe.de/db/termine/
METHOD:PUBLISH
BEGIN:VEVENT
UID:580424
ORGANIZER;CN=Substage Karlsruhe e.V.:MAILTO:info@substage.de
LOCATION:Substage Karlsruhe e.V.
SUMMARY:FEAR FACTORY
DESCRIPTION;ENCODING=QUOTED-PRINTABLE:Special guests: CRYSTAL LAKE\, HATE + THE NOCTURNAL AFFAIR=0D=0A=0D=0A  Mit Fear Fac
 tory kehren die unbestreitbaren K=C3=B6nige des Industrial-Metal zur=C3=BCc
 k auf die weltweiten Konzertb=C3=BChnen! In ihrer weit verzweigten\, mittler
 weile 36-j=C3=A4hrigen Historie hat die Band viele Aufs und Abs erlebt\, gin
 g durch H=C3=B6henfl=C3=BCge und pers=C3=B6nliche Differenzen - doch irgend
 wie hat sie das alles nur noch st=C3=A4rker gemacht. Dies bewies 2021 nicht
  nur ihr bislang letztes Studioalbum =E2=80=9EAggression Continuum=E2=80=9C
 \, sondern auch ihre atemberaubenden Liveshows\, von denen der deutsche Fan i
 m kommenden September gleich f=C3=BCnf erleben kann: in K=C3=B6ln\, Hamburg\,
  Berlin\, M=C3=BCnchen und Karlsruhe. Sie waren nicht nicht nur Epigonen ein
 es bis dahin unbekannten Sounds\, als sich Fear Factory 1989 unter dem Namen
  Ulceration gr=C3=BCndeten\; sie definierten mit ihrer wilden Mischung aus T
 rash- und Groove-Metal sowie stampfendem Industrial ein neues Genre mit: In
 dustrial Metal. Anfangs noch st=C3=A4rker im Death Metal beheimatet\, entwic
 kelten die drei Gr=C3=BCndungsmitglieder Burton C. Bell (Gesang\, Keyboard)\,
  Dino Cazares (Gitarre\, Bass) und Raymond Herrera (Schlagzeug) eine neue Kl
 ang=C3=A4sthetik\, die ebenso brachial wie futuristisch\, angsteinfl=C3=B6=C3
 =9Fend wie emotional aus den Boxen prasselte. Nach dem 1992 erschienenen\, p
 rogrammatisch betitelten Deb=C3=BCt =E2=80=9ESoul of a New Machine=E2=80=9C
  (1995)\, gelang ihnen bereits mit dem zweiten Album =E2=80=9EDemanufacture
 =E2=80=9C der Durchbruch in den USA sowie Gro=C3=9Fbritannien\; mit dem 1998
  ver=C3=B6ffentlichten Nachfolger =E2=80=9EObsolete=E2=80=9C\, auf dem Fear 
 Factory ihren ureigenen Genremix zu einem ersten bandinternen H=C3=B6hepunk
 t verdichteten\, wurden sie weltweit zu neuen Stars der Metal-Szene: Das Alb
 um kletterte trotzseiner kompromisslosen H=C3=A4rte in zahllosen Nationen i
 n hohe Chartregionen. Fear Factory z=C3=A4hlen zu den langlebigen Metal-Ban
 ds mit einer der wohl h=C3=B6chsten Fluktuationen von Bandmitgliedern\, die 
 daf=C3=BCr allesamt immer wieder neue Impulse in die Band brachten. Insbeso
 ndere zwischen den beiden K=C3=B6pfen der Band\, Burton C. Bell und Dino Caz
 ares\, kam es immer wieder zu wilden Disputen\, die 2007 sogar zu einer vor
 =C3=BCbergehenden Aufl=C3=B6sung der Band f=C3=BChrten. Nachdem Bell die Ba
 nd nun 2021 endg=C3=BCltig verlassen hat\, zeigten sich Fear Factory auf ihr
 em aktuellen Album =E2=80=9EAggression Continuum=E2=80=9C erstmals mit dem 
 neuen Frontmann Milo Silvestro\, zugleich aber in alter St=C3=A4rke. Auch di
 e Special Guests verleihen dem Line-up dieser Tournee zus=C3=A4tzliche Tief
 e und einen selten internationalen Spannungsbogen. So werden Crystal Lake a
 us Tokio mit ihrem explosiven Metalcore f=C3=BCr energiegeladene\, asiatisch
  beeinflusste Momente sorgen. Hate\, eine der angesehensten polnischen Extre
 me-Metal-Bands\, liefern einen unerbittlichen Angriff aus d=C3=BCsterem Blac
 k- und Death Metal\, der auf jahrzehntelanger Underground-Credibility basier
 t=C2=A0 The Nocturnal Affair aus Las Vegas bringen hingegen eine dunklere\, 
 melodische Dimension ein\, verweben Gothic- und Atmospheric-Rock-Elemente - 
 und tragen somit ihren Teil dazu bei\, diese f=C3=BCnf Abende zu h=C3=B6chst
  vielschichtigen\, druckvollen Metal-Klangreisen zu verdichten.    Einlass: 
 18:00 Uhr    Altersfreigabe: ab 16 Jahren =20
URL:https://kalender.karlsruhe.de/db/termine/musik/fear_factory
CLASS:PUBLIC
DTSTART:20260920T190000
DTEND:
DTSTAMP:20260331T175604
CATEGORIES:Musik
ATTACH:https://kalender.karlsruhe.de/db/termine/musik/fear_factory/file/icon_large-fear-factory-1--3000px.jpg
END:VEVENT

END:VCALENDAR
