BEGIN:VCALENDAR
VERSION:2.0
CALSCALE:GREGORIAN
PRODID:https://kalender.karlsruhe.de/db/termine/
METHOD:PUBLISH
BEGIN:VEVENT
UID:575551
ORGANIZER;CN=Substage Karlsruhe e.V.:MAILTO:info@substage.de
LOCATION:Substage Karlsruhe e.V.
SUMMARY:Fiddler's Green
DESCRIPTION;ENCODING=QUOTED-PRINTABLE:Acoustic Pub Crawl Support:=C2=A0Deadwood Holle=0D=0A=0D=0A  Acoustic Pub Crawl 202
 6 =E2=80=93 Die Akustiktour zum 35. Jubil=C3=A4um von Fiddler=E2=80=99s Gre
 en    Seit 35 Jahren bringen Fiddler=E2=80=99s Green mit ihrem =E2=80=9EIri
 sh Speedfolk=E2=80=9C die S=C3=A4le zum Kochen. Zum Jubil=C3=A4um =C3=BCber
 raschen die Folkrocker ihre Fans mit einer ganz besonderen Tour: dem Acoust
 ic Pub Crawl 2026.Von April bis Mai tourt die Band unplugged durch Deutschl
 and und zeigt ihre Songs in einem neuen\, akustischen Gewand =E2=80=93nah\, d
 irekt und voller Energie. Statt wuchtiger Rockproduktion setzen Fiddler=E2
 =80=99s Green auf Spontaneit=C3=A4t\, Humor und charmante Clubatmosph=C3=A4r
 e.Neben den gro=C3=9Fen Klassikern der Bandgeschichte erwarten das Publikum
  auch neu arrangierte Rarit=C3=A4ten =E2=80=93und jede Menge =C3=9Cberrasch
 ungen: Denn neben Geige\, Gitarre und Mandoline kommen auch ungew=C3=B6hnlic
 he Instrumente zum Einsatz\, von der Maultrommel =C3=BCber die Sitar bis hin
  zum Glockenspiel.Der Acoustic Pub Crawl 2026 ist damit mehr als ein Jubil
 =C3=A4um =E2=80=93es ist eine Einladung\, 35 Jahre Fiddler=E2=80=99s Green g
 emeinsam zu feiern: handgemacht\, lebendig und unberechenbar wie eh und je. 
    Einlass: 19:00 Uhr    Altersfreigabe: ab 16 Jahren =20
URL:https://kalender.karlsruhe.de/db/termine/musik/fiddlers_green
CLASS:PUBLIC
DTSTART:20260515T200000
DTEND:
DTSTAMP:20260209T175559
CATEGORIES:Musik
ATTACH:https://kalender.karlsruhe.de/db/termine/musik/fiddlers_green/file/icon_large-fiddlers-green---apc-2026---photo-holger-fichtner-kopie.jpg
END:VEVENT

END:VCALENDAR
