BEGIN:VCALENDAR
VERSION:2.0
CALSCALE:GREGORIAN
PRODID:https://kalender.karlsruhe.de/db/termine/
METHOD:PUBLISH
BEGIN:VEVENT
UID:566087
ORGANIZER;CN=Kantorat der Ev. Stadtkirche Karlsruhe:MAILTO:kantorat@stadtkirche-karlsruhe.de
LOCATION:Ev. Stadtkirche Karlsruhe
SUMMARY:„Fragmente des Verborgenen“
DESCRIPTION;ENCODING=QUOTED-PRINTABLE:Werke von Antonio Vivaldi und Slobodan Jovanovi=C4=87 (Urauff=C3=BChrungen)
 =0D=0A=0D=0A  =E2=80=9EFRAGMENTE DES VERBORGENEN=E2=80=9C    Antonio Vivaldi: Conce
 rti    Slobodan Jovanovi=C4=87: Organ concerto (UA)\, Sound Leaks of Academi
 a della Morte (UA)\, =E2=80=9EJedem seine Maske=E2=80=9D    Solist*innen  =0D=0A
   Mitglieder des Bachchor Karlsruhe  =0D=0A  Ensemble Serene Destination  =0D=0A  L
 eitung & Orgel: Christian-Markus Raiser =20
URL:https://kalender.karlsruhe.de/db/termine/musik/fragmente_des_verborgenen
CLASS:PUBLIC
DTSTART:20260426T180000
DTEND:
DTSTAMP:20260223T081028
CATEGORIES:Musik
ATTACH:https://kalender.karlsruhe.de/db/termine/musik/fragmente_des_verborgenen/file/icon_Stadtkirche_Karlsruhe_Gr.jpg
END:VEVENT

END:VCALENDAR
