BEGIN:VCALENDAR
VERSION:2.0
CALSCALE:GREGORIAN
PRODID:https://kalender.karlsruhe.de/db/termine/
METHOD:PUBLISH
BEGIN:VEVENT
UID:580430
ORGANIZER;CN=Musikverein "Harmonie" Karlsruhe e.V.:MAILTO:kontakt@harmonie-karlsruhe.de
LOCATION:Begegnungsstätte Grötzingen
SUMMARY:Frühjahrskonzert
DESCRIPTION;ENCODING=QUOTED-PRINTABLE:Musikverein Harmonie Karlsruhe e.V.=0D=0A=0D=0A  Unter der musikalischen Leitung vo
 n Kilian B=C3=B6ttger gibt das sinfonische Blasorchester des Musikvereins H
 armonie Karlsruhe sein diesj=C3=A4hriges Fr=C3=BChjahrskonzert zum Besten. 
 Anspruchsvolle Literatur f=C3=BCr Blasorchester\, laute\, leise und harmonisc
 he T=C3=B6ne\, seien Sie gespannt auf ein vielseitiges\, sowie abwechslungsre
 iches Programm. Besuchen Sie uns doch gerne auf unserer Homepage: www.harmo
 nie-karlsruhe.net. Dort ist auch unser Flyer mit Konzertprogramm hinterlegt
 . Wir freuen uns auf Ihr kommen! Ihre Harmonie Karlsruhe. =20
URL:https://kalender.karlsruhe.de/db/termine/musik/fruhjahrskonzert-2
CLASS:PUBLIC
DTSTART:20260426T180000
DTEND:20260426T200000
DTSTAMP:20260330T124130
CATEGORIES:Musik
ATTACH:https://kalender.karlsruhe.de/db/termine/musik/fruhjahrskonzert-2/file/icon_IMG_2442.jpg
END:VEVENT

END:VCALENDAR
