BEGIN:VCALENDAR
VERSION:2.0
CALSCALE:GREGORIAN
PRODID:https://kalender.karlsruhe.de/db/termine/
METHOD:PUBLISH
BEGIN:VEVENT
UID:580854
ORGANIZER;CN=KlangKunst in der Hemingway Lounge e. V.:MAILTO:presse@hemingwaylounge.de
LOCATION:Hemingway Lounge in Karlsruhe
SUMMARY:.„Fruits of Passion & Sorrow” . Heinrich von Kalnein & Horst-Michael Schaffer & JBBG SMÅL feat. PETER LEHEL
DESCRIPTION;ENCODING=QUOTED-PRINTABLE:Peter Lehel (sax) . Horst-Michael Schaffer (t & fh) . Heinrich von Kalnein 
 (sax & f) . Karen Asatrian (p & keys) . Thomas Wilding (eb) . Tom Stabler (
 d)=0D=0A=0D=0A  Die Hemingway Lounge pr=C3=A4sentiert ein au=C3=9Fergew=C3=B6hnlich
 es Projekt zweier pr=C3=A4gender Musiker der europ=C3=A4ischen Jazzszene:  
    Horst-Michael Schaffer    und     Heinrich von Kalnein    \, bekannt als 
 k=C3=BCnstlerische K=C3=B6pfe der Jazz Bigband Graz\, =C3=BCbertragen die kl
 angliche Energie ihres renommierten Gro=C3=9Fensembles in ein kompaktes Qui
 ntett. Unter dem Namen JBBG SM=C3=85L entsteht eine konzentrierte Form jene
 r Klang=C3=A4sthetik\, die Jazz-Rock-Fusion\, Pop\, Minimal Music und Weltmusi
 k miteinander verbindet. Ausdrucksstarke Arrangements\, virtuose Improvisati
 onen und spontane musikalische Interaktion pr=C3=A4gen den Sound dieser For
 mation. Das aktuelle Programm =E2=80=9EFruits of Passion & Sorrow=E2=80=9C 
 verbindet neue Kompositionen mit der besonderen musikalischen Handschrift v
 on     Karen Asatrian    . Als besonderer Gast erweitert der Karlsruher Sax
 ophonist     Peter Lehel    das Ensemble um eine weitere markante Stimme. E
 in Konzertabend mit intensiver Dynamik\, klanglicher Vielfalt und zeitgen=C3
 =B6ssischem Jazz auf h=C3=B6chstem Niveau =E2=80=93 live in der besonderen 
 Atmosph=C3=A4re der Hemingway Lounge.    TRAILER: https://www.youtube.com/w
 atch?v=3DWLRitIvXroI  =0D=0A   =0D=0A  =0D=0A  =0D=0A=20
URL:https://kalender.karlsruhe.de/db/termine/musik/fruits_of_passion_sorrow_heinrich_von
CLASS:PUBLIC
DTSTART:20260605T200000
DTEND:20260605T223000
DTSTAMP:20260415T085006
CATEGORIES:Musik
ATTACH:https://kalender.karlsruhe.de/db/termine/musik/fruits_of_passion_sorrow_heinrich_von/file/icon_260605_HL_pic1_Thomas Radlwimmer.jpg
END:VEVENT

END:VCALENDAR
