BEGIN:VCALENDAR
VERSION:2.0
CALSCALE:GREGORIAN
PRODID:https://kalender.karlsruhe.de/db/termine/
METHOD:PUBLISH
BEGIN:VEVENT
UID:563088
ORGANIZER;CN=Kantorat der Ev. Stadtkirche Karlsruhe:MAILTO:kantorat@stadtkirche-karlsruhe.de
LOCATION:Kleine Kirche Karlsruhe
SUMMARY:Generationen-Konzert
DESCRIPTION;ENCODING=QUOTED-PRINTABLE:Werke von Bach\, Telemann\, Molter\, H=C3=A4ndel\, Yoffe mit Karlsruher Musiker
 *innen-Familien=0D=0A=0D=0A  =E2=80=9EGenerationen=E2=80=9C =E2=80=93 Karlsruher Mu
 siker*innenfamilien: Eltern und Kinder im musikalischen Doppelspiel    Werk
 e von Bach\, Telemann\, Molter\, H=C3=A4ndel\, Yoffe    Stefanie Kessler\, Fl=C3
 =B6te  =0D=0A  Mai Johannsen & Georg Siebert\, Oboe  =0D=0A  Rainer Johannsen\, Fagot
 t  =0D=0A  Lara-Marie Rettberg\, Trompete  =0D=0A  Katharina Rettberg & Elisabeth Zi
 mmermann\, Violine  =0D=0A  Ursula Plagge-Zimmern\, Viola  =0D=0A  J=C3=B6rg Rieger\, 
 Franziska Finckh\, Dmitri Dichtiar\, Helen Buck\, Cello  =0D=0A  Georg Sch=C3=A4fe
 r\, Cembalo  =0D=0A  Ensemble Studio 16 =20
URL:https://kalender.karlsruhe.de/db/termine/musik/generationen_konzert
CLASS:PUBLIC
DTSTART:20260517T190000
DTEND:
DTSTAMP:20260203T150436
CATEGORIES:Musik
ATTACH:https://kalender.karlsruhe.de/db/termine/musik/generationen_konzert/file/icon_Kleine_Kirche_Karlsruhe_Gr.jpg
END:VEVENT

END:VCALENDAR
