BEGIN:VCALENDAR
VERSION:2.0
CALSCALE:GREGORIAN
PRODID:https://kalender.karlsruhe.de/db/termine/
METHOD:PUBLISH
BEGIN:VEVENT
UID:578558
ORGANIZER;CN=Messe-Karlsruhe Veranstaltungen:MAILTO:
LOCATION:Schwarzwaldhalle / Kongresszentrum Karlsruhe
SUMMARY:GIPFELTREFFEN – Egerländer treffen auf Oberkrainer 2026
DESCRIPTION;ENCODING=QUOTED-PRINTABLE:=C2=A0=0D=0A=0D=0A    Alexander Wurz & Die Egerl=C3=A4nder Musikanten & Saso Avseni
 k & seine Oberkrainer   =0D=0A       Wichtige Informationen zur Anreise und Par
 km=C3=B6glichkeiten    =0D=0A      =0D=0A   Bei Gro=C3=9Fveranstaltungen oder paral
 lel stattfindenden Veranstaltungen kann es zu Engp=C3=A4ssen bei der Verf
 =C3=BCgbarkeit unserer Parkpl=C3=A4tze kommen. Bitte beachten Sie\, dass das
  Verkehrsleitsystem die Belegung der Tiefgarage nicht in Echtzeit anzeigt. 
 Daher empfehlen wir\, fr=C3=BChzeitig anzureisen.   =0D=0A   Sollte die Tiefgara
 ge voll sein\, empfehlen wir die Nutzung nahegelegener Parkh=C3=A4user.   =0D=0A
    F=C3=BCr eine stressfreie Anreise raten wir zudem\, die =C3=B6ffentlichen
  Verkehrsmittel zu nutzen =E2=80=93 die Haltestellen befinden sich direkt a
 n unseren Geb=C3=A4uden und sind in weniger als 3 Minuten zu Fu=C3=9F errei
 chbar. Auch das Fahrrad stellt eine praktische und umweltfreundliche Option
  dar.        Vielen Dank f=C3=BCr Ihr Verst=C3=A4ndnis. Wir w=C3=BCnschen I
 hnen eine angenehme Anreise und viel Freude bei der Veranstaltung!   =0D=0A    
    Ihr Team der Messe Karlsruhe        Einlass: 19:00 Begin: 20:00 Ende: 22
 :30 =20
URL:https://kalender.karlsruhe.de/db/termine/musik/gipfeltreffen_egerlander_treffen_auf_oberkrainer2026n
CLASS:PUBLIC
DTSTART:20261106T000000
DTEND:20261107T000000
DTSTAMP:20260420T175601
CATEGORIES:Musik
ATTACH:https://kalender.karlsruhe.de/db/termine/
END:VEVENT

END:VCALENDAR
