BEGIN:VCALENDAR
VERSION:2.0
CALSCALE:GREGORIAN
PRODID:https://kalender.karlsruhe.de/db/termine/
METHOD:PUBLISH
BEGIN:VEVENT
UID:573771
ORGANIZER;CN=Tollhaus Karlsruhe - Freier Kulturverein e.V.:MAILTO:info@tollhaus.de
LOCATION:Kulturzentrum Tollhaus
SUMMARY:GROBSCHNITT
DESCRIPTION;ENCODING=QUOTED-PRINTABLE:"Acoustic Party=E2=80=9C=0D=0A=0D=0A
URL:https://kalender.karlsruhe.de/db/termine/musik/grobschnitt
CLASS:PUBLIC
DTSTART:20260516T200000
DTEND:
DTSTAMP:20250808T175722
CATEGORIES:Musik
ATTACH:https://kalender.karlsruhe.de/db/termine/488246/file/icon
END:VEVENT

END:VCALENDAR
