BEGIN:VCALENDAR
VERSION:2.0
CALSCALE:GREGORIAN
PRODID:https://kalender.karlsruhe.de/db/termine/
METHOD:PUBLISH
BEGIN:VEVENT
UID:580433
ORGANIZER;CN=Badisches Konservatorium:MAILTO:
LOCATION:Badisches KONServatorium, Musikschule der Stadt Karlsruhe
SUMMARY:Groovy, Groovy, ...
DESCRIPTION;ENCODING=QUOTED-PRINTABLE:Jazz\, Pop und Rock am KONS=0D=0A=0D=0A  Es spielen Sch=C3=BClerinnen\, Sch=C3=BCler 
 und Lehrkr=C3=A4fte des  Fachbereiches Jazz. =20
URL:https://kalender.karlsruhe.de/db/termine/musik/groovy_groovy-1
CLASS:PUBLIC
DTSTART:20260512T183000
DTEND:
DTSTAMP:20260330T124206
CATEGORIES:Musik
ATTACH:https://kalender.karlsruhe.de/db/termine/musik/groovy_groovy-1/file/icon_Instrumente gelb-rot.jpg
END:VEVENT

END:VCALENDAR
