BEGIN:VCALENDAR
VERSION:2.0
CALSCALE:GREGORIAN
PRODID:https://kalender.karlsruhe.de/db/termine/
METHOD:PUBLISH
BEGIN:VEVENT
UID:563090
ORGANIZER;CN=Kantorat der Ev. Stadtkirche Karlsruhe:MAILTO:kantorat@stadtkirche-karlsruhe.de
LOCATION:Kleine Kirche Karlsruhe
SUMMARY:Händels Heldinnen
DESCRIPTION;ENCODING=QUOTED-PRINTABLE:Moderiertes Konzert mit =E2=80=9EHeldinnen-Arien=E2=80=9C\, Ouvert=C3=BCren 
 und Ballettmusik aus Georg Friedrich H=C3=A4ndels Opernschaffen=0D=0A=0D=0A  H=C3
 =A4ndels Heldinnen    Moderiertes Konzert mit =E2=80=9EHeldinnen-Arien=E2
 =80=9C\, Ouvert=C3=BCren und Ballettmusik aus Georg Friedrich H=C3=A4ndels O
 pernschaffen    Sophie Sauter\, Sopran  =0D=0A  Gottesauer Ensemble  =0D=0A  Leitung
 : Dmitri Dichtiar =20
URL:https://kalender.karlsruhe.de/db/termine/musik/handels_heldinnen
CLASS:PUBLIC
DTSTART:20260607T190000
DTEND:
DTSTAMP:20260203T150439
CATEGORIES:Musik
ATTACH:https://kalender.karlsruhe.de/db/termine/musik/handels_heldinnen/file/icon_Kleine_Kirche_Karlsruhe_Gr.jpg
END:VEVENT

END:VCALENDAR
