BEGIN:VCALENDAR
VERSION:2.0
CALSCALE:GREGORIAN
PRODID:https://kalender.karlsruhe.de/db/termine/
METHOD:PUBLISH
BEGIN:VEVENT
UID:580483
ORGANIZER;CN=PIANO-PODIUM Karlsruhe e.V.:MAILTO:info@piano-podium.de
LOCATION:Musentempel Karlsruhe
SUMMARY:„Happy Birthday, liebe Komponistinnen und Komponisten!“
DESCRIPTION;ENCODING=QUOTED-PRINTABLE:KLAVIERMUSIK VON JUBILAREN  Renate Birnstein\, Friedrich Cerha\, John Coltran
 e\, Miles Davis\, Manuel de Falla\, Alberto Ginastera\, Barbara Heller\, Hans We
 rner Henze\, Josef Hofmann\, Babette Koblenz\, Friedrich Kuhlau\, Gy=C3=B6rgy K
 urt=C3=A1g\, Wolfgang Amadeus Mozart\, Eric Satie\, Dmitri Schostakowitsch\, Ch
 ristian Sinding und Ruth Zechlin=0D=0A=0D=0A
URL:https://kalender.karlsruhe.de/db/termine/musik/happy_birthday_liebe_komponistinnen_und_komponisten
CLASS:PUBLIC
DTSTART:20260516T190000
DTEND:20260516T213000
DTSTAMP:20260407T112106
CATEGORIES:Musik
ATTACH:https://kalender.karlsruhe.de/db/termine/musik/happy_birthday_liebe_komponistinnen_und_komponisten/file/icon_Gemälde_HelgaBrendle_mitLogo.jpg
END:VEVENT

END:VCALENDAR
