BEGIN:VCALENDAR
VERSION:2.0
CALSCALE:GREGORIAN
PRODID:https://kalender.karlsruhe.de/db/termine/
METHOD:PUBLISH
BEGIN:VEVENT
UID:579568
ORGANIZER;CN=Substage Karlsruhe e.V.:MAILTO:info@substage.de
LOCATION:Substage Karlsruhe e.V.
SUMMARY:HATEBREED
DESCRIPTION;ENCODING=QUOTED-PRINTABLE:STILL A THREAT EU TOUR 2026=0D=0A=0D=0A  + Support    Als ihm 1993 die Leute im hei
 mischen New Haven in Connecticut erz=C3=A4hlen wollen\, Bands wie Quicksand 
 oder Iceburn spielten Hardcore\, ist f=C3=BCr Jamey Jasta der Spa=C3=9F vorb
 ei. Er krallt sich kurzerhand die beiden Gitarristen Sean Martin und Lou 'B
 oulder' Richards\, Basser Chris Beattie und Drummer Rigg Ross\, um deutlich z
 u machen\, wie ein richtiger Hardcore-Song zu klingen hat - und dass ein sol
 cher nur 30 Sekunden lang sein muss. Getreu diesem Motto holzen die Jungs l
 os. Die Songstrukturen sind simpel\, geben aber voll auf die Zw=C3=B6lf. Mit
  ihrer =C3=BCber Victory Records ver=C3=B6ffentlichten ersten Scheibe mache
 n Hatebreed schnell deutlich\, dass sie textlich nicht in die politische Har
 dcore-Ecke gehen\, sondern einfach ihrer Meinung zu gesellschaftlichen Probl
 emen Ausdruck verleihen. Dass sie dabei nicht sonderlich zartf=C3=BChlend z
 ur Sache gehen\, wundert eher weniger. Vielleicht k=C3=B6nnen sich genau des
 wegen von Anfang an eine Menge Menschen mit ihrer Message identifizieren. B
 ereits nach diesem Album touren Hatebreed mit Sepultura und fahren sogar au
 f der Ozzfest-Tour mit\, was ihrem Bekanntheitsgrad =C3=A4u=C3=9Ferst zutr
 =C3=A4glich ist.  =0D=0A  2025 gaben Hatebreed bekannt\, dass sie an einem neuen
  Album arbeiten. 2026 gehen die Jungs auf gro=C3=9Fe "Still A Threat" EU To
 ur.    Einlass: 19:00 Uhr    Altersfreigabe: ab 16 Jahren =20
URL:https://kalender.karlsruhe.de/db/termine/musik/hatebreed
CLASS:PUBLIC
DTSTART:20260626T200000
DTEND:
DTSTAMP:20260422T175604
CATEGORIES:Musik
ATTACH:https://kalender.karlsruhe.de/db/termine/musik/hatebreed/file/icon_large-design-ohne-titel-6-.jpg
END:VEVENT

END:VCALENDAR
