BEGIN:VCALENDAR
VERSION:2.0
CALSCALE:GREGORIAN
PRODID:https://kalender.karlsruhe.de/db/termine/
METHOD:PUBLISH
BEGIN:VEVENT
UID:580133
ORGANIZER;CN=KlangKunst in der Hemingway Lounge e. V.:MAILTO:presse@hemingwaylounge.de
LOCATION:Hemingway Lounge in Karlsruhe
SUMMARY:Helmut Dold & Hermann Bruderhofer Duo
DESCRIPTION;ENCODING=QUOTED-PRINTABLE:Helmut Dold (t) . Hermann Bruderhofer (bj)=0D=0A=0D=0A  Mit dem Duo=C2=A0Helmut Dol
 d=C2=A0und=C2=A0Hermann Bruderhofer=C2=A0steht eine der wohl kleinsten und 
 zugleich charmantesten Formationen des traditionellen Jazz auf der B=C3=BCh
 ne. Trompete\, Gesang und Banjo gen=C3=BCgen den beiden Musikern\, um den unv
 erwechselbaren Geist des Dixieland lebendig werden zu lassen. Beide verbind
 et eine lange musikalische Zusammenarbeit\, die aus ihrer Zeit bei den bekan
 nten =E2=80=9EFr=C3=A4ulein Mayers Hinterhausjazzern=E2=80=9C in Freiburg h
 ervorgegangen ist. Aus dieser gemeinsamen Erfahrung entwickelte sich ein ei
 ngespieltes Duo\, das virtuoses Musizieren mit humorvoller B=C3=BChnenpr=C3
 =A4senz verbindet.=C2=A0Helmut Dold\, klassisch ausgebildeter Trompeter und 
 leidenschaftlicher Jazzer\, =C3=BCberzeugt ebenso als Entertainer mit gro=C3
 =9Fer Spielfreude und pointiertem Witz.=C2=A0Hermann Bruderhofer=C2=A0pr=C3
 =A4gt mit seinem charakteristischen Banjospiel den rhythmischen Kern des En
 sembles und bringt jahrzehntelange Erfahrung im traditionellen Jazz ein. Ge
 meinsam gestalten sie einen lebendigen\, swingenden Dialog zwischen Melodie\,
  Rhythmus und Gesang\, der den Charme des klassischen Dixieland auf unmittel
 bare und unterhaltsame Weise erfahrbar macht.    =0D=0A =20
URL:https://kalender.karlsruhe.de/db/termine/musik/helmut_dold_hermann_bruderhofer_duo
CLASS:PUBLIC
DTSTART:20260424T200000
DTEND:20260424T223000
DTSTAMP:20260324T091824
CATEGORIES:Musik
ATTACH:https://kalender.karlsruhe.de/db/termine/musik/helmut_dold_hermann_bruderhofer_duo/file/icon_260424_HL_pic1_Duo Dold&Bruderhof.jpg
END:VEVENT

END:VCALENDAR
