BEGIN:VCALENDAR
VERSION:2.0
CALSCALE:GREGORIAN
PRODID:https://kalender.karlsruhe.de/db/termine/
METHOD:PUBLISH
BEGIN:VEVENT
UID:572379
ORGANIZER;CN=Kantorat der Ev. Stadtkirche Karlsruhe:MAILTO:kantorat@stadtkirche-karlsruhe.de
LOCATION:Ev. Stadtkirche Karlsruhe
SUMMARY:Hofkonzert: Spanische Nacht
DESCRIPTION;ENCODING=QUOTED-PRINTABLE:Werke von Bizet\, Sarasate\, Turina\, de Falla I Bachchor Karlsruhe I Camerata
  2000=0D=0A=0D=0A  Hofkonzert: Spanische Nacht    Werke von Bizet\, Sarasate\, Turina
 \, de Falla    Bachchor Karlsruhe    Camerata 2000    Leitung: KMD Christian
 -Markus Raiser    Veranstaltung im Hof der Ev. Stadtkirche Karlsruhe =20
URL:https://kalender.karlsruhe.de/db/termine/musik/hofkonzert_spanische_nacht
CLASS:PUBLIC
DTSTART:20260627T193000
DTEND:
DTSTAMP:20260203T150441
CATEGORIES:Musik
ATTACH:https://kalender.karlsruhe.de/db/termine/musik/hofkonzert_spanische_nacht/file/icon_Stadtkirche_Karlsruhe_Gr.jpg
END:VEVENT

END:VCALENDAR
