BEGIN:VCALENDAR
VERSION:2.0
CALSCALE:GREGORIAN
PRODID:https://kalender.karlsruhe.de/db/termine/
METHOD:PUBLISH
BEGIN:VEVENT
UID:563095
ORGANIZER;CN=Kantorat der Ev. Stadtkirche Karlsruhe:MAILTO:kantorat@stadtkirche-karlsruhe.de
LOCATION:Ev. Stadtkirche Karlsruhe
SUMMARY:Internationaler Orgelsommer Karlsruhe
DESCRIPTION;ENCODING=QUOTED-PRINTABLE:1. Konzert:  Paolo Oreni\, Mailand I Werke von Bach\, Liszt\, Raiser\, Improvis
 ation=0D=0A=0D=0A  Paolo Oreni\, Mailand    Werke von Bach\, Liszt\, Raiser\, Improvisa
 tion    Der Internationale Orgelsommer Karlsruhe =E2=80=93 an sechs Sonntag
 en im Juli und August =E2=80=93 ist seit Jahren ein Forum f=C3=BCr herausra
 gende Organistinnen und Organisten aus aller Welt. Die beiden hervorragende
 n Orgeln der Stadtkirche erm=C3=B6glichen eine ad=C3=A4quate Umsetzung nahe
 zu aller Stilbereiche.    Vor jedem Orgelkonzert gibt es in der Talk-Runde 
 =E2=80=9EDas Blaue Sofa=E2=80=9C (19.30=E2=80=9320.00 Uhr) die M=C3=B6glich
 keit\, mit dem Organisten des Abends ins Gespr=C3=A4ch zu kommen und zugleic
 h eine Einf=C3=BChrung in das Konzertprogramm zu erhalten.    19. Juli 2026
  Paolo Oreni\, Mailand  =0D=0A  26. Juli 2026 Anna Lapwood\, London  =0D=0A  2. Augus
 t 2026 Isabelle Demers\, Montreal  =0D=0A  9. August 2026 Johannes Skoog\, Stockh
 olm  =0D=0A  16. August 2026 Vincent Dubois\, Paris  =0D=0A  23. August 2026 Christi
 an-Markus Raiser =20
URL:https://kalender.karlsruhe.de/db/termine/musik/internationaler_orgelsommer_karlsruhe-1
CLASS:PUBLIC
DTSTART:20260719T203000
DTEND:
DTSTAMP:20260203T150603
CATEGORIES:Musik
ATTACH:https://kalender.karlsruhe.de/db/termine/musik/internationaler_orgelsommer_karlsruhe-1/file/icon_Stadtkirche_Karlsruhe_Gr.jpg
END:VEVENT

END:VCALENDAR
