BEGIN:VCALENDAR
VERSION:2.0
CALSCALE:GREGORIAN
PRODID:https://kalender.karlsruhe.de/db/termine/
METHOD:PUBLISH
BEGIN:VEVENT
UID:578716
ORGANIZER;CN=Kantorat der Ev. Stadtkirche Karlsruhe:MAILTO:kantorat@stadtkirche-karlsruhe.de
LOCATION:Ev. Stadtkirche Karlsruhe
SUMMARY:Internationaler Orgelsommer Karlsruhe
DESCRIPTION;ENCODING=QUOTED-PRINTABLE:4. Konzert:  Johannes Skoog\, Stockholm I Werke von Bruhns\, Bach\, Franck\, Al
 ain\, Scharin\, Nyman=0D=0A=0D=0A  Johannes Skoog\, Stockholm    Werke von Bruhns\, Bac
 h\, Franck\, Alain\, Scharin\, Nyman    Der Internationale Orgelsommer Karlsruh
 e =E2=80=93 an sechs Sonntagen im Juli und August =E2=80=93 ist seit Jahren
  ein Forum f=C3=BCr herausragende Organistinnen und Organisten aus aller We
 lt. Die beiden hervorragenden Orgeln der Stadtkirche erm=C3=B6glichen eine 
 ad=C3=A4quate Umsetzung nahezu aller Stilbereiche.    Vor jedem Orgelkonzer
 t gibt es in der Talk-Runde =E2=80=9EDas Blaue Sofa=E2=80=9C (19.30=E2=80
 =9320.00 Uhr) die M=C3=B6glichkeit\, mit dem Organisten des Abends ins Gespr
 =C3=A4ch zu kommen und zugleich eine Einf=C3=BChrung in das Konzertprogramm
  zu erhalten.    19. Juli 2026 Paolo Oreni\, Mailand  =0D=0A  26. Juli 2026 Anna
  Lapwood\, London  =0D=0A  2. August 2026 Isabelle Demers\, Montreal  =0D=0A  9. Augu
 st 2026 Johannes Skoog\, Stockholm  =0D=0A  16. August 2026 Vincent Dubois\, Pari
 s  =0D=0A  23. August 2026 Christian-Markus Raiser =20
URL:https://kalender.karlsruhe.de/db/termine/musik/internationaler_orgelsommer_karlsruhe-4
CLASS:PUBLIC
DTSTART:20260809T203000
DTEND:
DTSTAMP:20260203T150605
CATEGORIES:Musik
ATTACH:https://kalender.karlsruhe.de/db/termine/musik/internationaler_orgelsommer_karlsruhe-4/file/icon_Stadtkirche_Karlsruhe_Gr.jpg
END:VEVENT

END:VCALENDAR
