BEGIN:VCALENDAR
VERSION:2.0
CALSCALE:GREGORIAN
PRODID:https://kalender.karlsruhe.de/db/termine/
METHOD:PUBLISH
BEGIN:VEVENT
UID:578717
ORGANIZER;CN=Kantorat der Ev. Stadtkirche Karlsruhe:MAILTO:kantorat@stadtkirche-karlsruhe.de
LOCATION:Ev. Stadtkirche Karlsruhe
SUMMARY:Internationaler Orgelsommer Karlsruhe
DESCRIPTION;ENCODING=QUOTED-PRINTABLE:5. Konzert:  Vincent Dubois\, Paris  I  Werke von Bach\, Franck\, Liszt\, Viern
 e\, Ravel\, Improvisation=0D=0A=0D=0A  Vincent Dubois\, Paris    Werke von Bach\, Franc
 k\, Liszt\, Vierne\, Ravel\, Improvisation    Der Internationale Orgelsommer Ka
 rlsruhe =E2=80=93 an sechs Sonntagen im Juli und August =E2=80=93 ist seit 
 Jahren ein Forum f=C3=BCr herausragende Organistinnen und Organisten aus al
 ler Welt. Die beiden hervorragenden Orgeln der Stadtkirche erm=C3=B6glichen
  eine ad=C3=A4quate Umsetzung nahezu aller Stilbereiche.    Vor jedem Orgel
 konzert gibt es in der Talk-Runde =E2=80=9EDas Blaue Sofa=E2=80=9C (19.30
 =E2=80=9320.00 Uhr) die M=C3=B6glichkeit\, mit dem Organisten des Abends ins
  Gespr=C3=A4ch zu kommen und zugleich eine Einf=C3=BChrung in das Konzertpr
 ogramm zu erhalten.    19. Juli 2026 Paolo Oreni\, Mailand  =0D=0A  26. Juli 202
 6 Anna Lapwood\, London  =0D=0A  2. August 2026 Isabelle Demers\, Montreal  =0D=0A  9
 . August 2026 Johannes Skoog\, Stockholm  =0D=0A  16. August 2026 Vincent Dubois
 \, Paris  =0D=0A  23. August 2026 Christian-Markus Raiser =20
URL:https://kalender.karlsruhe.de/db/termine/musik/internationaler_orgelsommer_karlsruhe-5
CLASS:PUBLIC
DTSTART:20260816T203000
DTEND:
DTSTAMP:20260203T150606
CATEGORIES:Musik
ATTACH:https://kalender.karlsruhe.de/db/termine/musik/internationaler_orgelsommer_karlsruhe-5/file/icon_Stadtkirche_Karlsruhe_Gr.jpg
END:VEVENT

END:VCALENDAR
