BEGIN:VCALENDAR
VERSION:2.0
CALSCALE:GREGORIAN
PRODID:https://kalender.karlsruhe.de/db/termine/
METHOD:PUBLISH
BEGIN:VEVENT
UID:578718
ORGANIZER;CN=Kantorat der Ev. Stadtkirche Karlsruhe:MAILTO:kantorat@stadtkirche-karlsruhe.de
LOCATION:Ev. Stadtkirche Karlsruhe
SUMMARY:Internationaler Orgelsommer Karlsruhe
DESCRIPTION;ENCODING=QUOTED-PRINTABLE:6. Konzert:  Christian-Markus Raiser  I  Werke von Marchand\, Bach\, Mendelss
 ohn\, Bartok\, Satie\, Widor=0D=0A=0D=0A  Christian-Markus Raiser    Werke von Marchan
 d\, Bach\, Mendelssohn\, Bartok\, Satie\, Widor    Der Internationale Orgelsomme
 r Karlsruhe =E2=80=93 an sechs Sonntagen im Juli und August =E2=80=93 ist s
 eit Jahren ein Forum f=C3=BCr herausragende Organistinnen und Organisten au
 s aller Welt. Die beiden hervorragenden Orgeln der Stadtkirche erm=C3=B6gli
 chen eine ad=C3=A4quate Umsetzung nahezu aller Stilbereiche.    Vor jedem O
 rgelkonzert gibt es in der Talk-Runde =E2=80=9EDas Blaue Sofa=E2=80=9C (19.
 30=E2=80=9320.00 Uhr) die M=C3=B6glichkeit\, mit dem Organisten des Abends i
 ns Gespr=C3=A4ch zu kommen und zugleich eine Einf=C3=BChrung in das Konzert
 programm zu erhalten.    19. Juli 2026 Paolo Oreni\, Mailand  =0D=0A  26. Juli 2
 026 Anna Lapwood\, London  =0D=0A  2. August 2026 Isabelle Demers\, Montreal  =0D=0A 
  9. August 2026 Johannes Skoog\, Stockholm  =0D=0A  16. August 2026 Vincent Dubo
 is\, Paris  =0D=0A  23. August 2026 Christian-Markus Raiser =20
URL:https://kalender.karlsruhe.de/db/termine/musik/internationaler_orgelsommer_karlsruhe
CLASS:PUBLIC
DTSTART:20260823T203000
DTEND:
DTSTAMP:20260203T150602
CATEGORIES:Musik
ATTACH:https://kalender.karlsruhe.de/db/termine/musik/internationaler_orgelsommer_karlsruhe/file/icon_Stadtkirche_Karlsruhe_Gr.jpg
END:VEVENT

END:VCALENDAR
