BEGIN:VCALENDAR
VERSION:2.0
CALSCALE:GREGORIAN
PRODID:https://kalender.karlsruhe.de/db/termine/
METHOD:PUBLISH
BEGIN:VEVENT
UID:578731
ORGANIZER;CN=Substage Karlsruhe e.V.:MAILTO:info@substage.de
LOCATION:Substage Karlsruhe e.V.
SUMMARY:ITCHY
DESCRIPTION;ENCODING=QUOTED-PRINTABLE:                                                                           
                                                                            
                                                                            
                                                                            
                                                                            
                           ...=0D=0A=0D=0A  Ein Vierteljahrhundert Punkrock  =0D=0A  25 
 Jahre ITCHY =E2=80=93 Ein Vierteljahrhundert Punkrock\, Leidenschaft und une
 rsch=C3=BCtterlicher DIY-Spirit. Was am 13. Juli 2001 in Eislingen an der F
 ils als Teenagerband begann\, ist heute eine der best=C3=A4ndigsten\, erfolgr
 eichsten und zugleich sympathischsten Punkrock-Institutionen Deutschlands. 
 Mit unb=C3=A4ndiger Energie\, viel Humor und einem unverwechselbaren Gef=C3
 =BChl f=C3=BCr gro=C3=9Fe Melodien spielten sich ITCHY von den ersten Jugen
 dhaus-Konzerten bis auf die gro=C3=9Fen B=C3=BChnen quer durch Europa. Zum 
 25-j=C3=A4hrigen Jubil=C3=A4um gehen ITCHY 2026 genau dorthin\, wo ihre Gesc
 hichte seit jeher am intensivsten pulsiert: auf die B=C3=BChne. Ein Viertel
 jahrhundert nach ihrer Gr=C3=BCndung startet die Band ab Ende Oktober 2026 
 eine gro=C3=9Fe Jubil=C3=A4umstour\, die sie bis ins Fr=C3=BChjahr 2027 durc
 h Deutschland\, =C3=96sterreich\, die Schweiz und Tschechien f=C3=BChrt. Die 
 Shows markieren den n=C3=A4chsten gro=C3=9Fen Meilenstein in der Bandhistor
 ie und beweisen\, wie weit man mit Leidenschaft\, Ausdauer und Spa=C3=9F den 
 eigenen Weg gehen kann. F=C3=BCr besondere Momente sorgen bei ausgew=C3=A4h
 lten Tourstopps befreundete Bands\, die ITCHY seit vielen Jahren begleiten. 
 Mit ihnen teilten ITCHY in den vergangenen Dekaden nicht nur diverse B=C3
 =BChne\, es verbinden sie auch Jahrzehnte voller Abenteuer\, endlose Kilomete
 r im Tourbus und dieselbe\, niemals endende Leidenschaft f=C3=BCr die Musik.
  Die Jubil=C3=A4umstour 2026 ist damit weit mehr als eine Konzertreihe. Sie
  ist eine Einladung\, 25 Jahre ITCHY so intensiv zu erleben wie nie =E2=80
 =93 mit neuen Impulsen\, vertrauten Hymnen und der ungebremsten Live-Energie
 \, die die Band seit ihren allerersten Tagen antreibt.    Einlass: 19:00 Uhr
     Altersfreigabe: ab 16 Jahren =20
URL:https://kalender.karlsruhe.de/db/termine/musik/itchy
CLASS:PUBLIC
DTSTART:20261106T200000
DTEND:
DTSTAMP:20260202T175601
CATEGORIES:Musik
ATTACH:https://kalender.karlsruhe.de/db/termine/musik/itchy/file/icon_large-itchy-presse26-4b-cdominikdrossart-kopie.jpg
END:VEVENT

END:VCALENDAR
