BEGIN:VCALENDAR
VERSION:2.0
CALSCALE:GREGORIAN
PRODID:https://kalender.karlsruhe.de/db/termine/
METHOD:PUBLISH
BEGIN:VEVENT
UID:580842
ORGANIZER;CN=Grötzinger Zupforchester 1923 e. V.:MAILTO:gzo1923@web.de
LOCATION:Grötzingen, Martin-Luther-Haus
SUMMARY:Jahreskonzert
DESCRIPTION;ENCODING=QUOTED-PRINTABLE:Das Gr=C3=B6tzinger Zupforchester 1923 e. V. l=C3=A4dt Sie herzlich zu sein
 em Jahreskonzert 2026 ein.=0D=0A=0D=0A
URL:https://kalender.karlsruhe.de/db/termine/musik/jahreskonzert-1
CLASS:PUBLIC
DTSTART:20260510T170000
DTEND:20260510T190000
DTSTAMP:20260415T084147
CATEGORIES:Musik
ATTACH:https://kalender.karlsruhe.de/db/termine/musik/jahreskonzert-1/file/icon_Flyer-2026.jpg
END:VEVENT

END:VCALENDAR
