BEGIN:VCALENDAR
VERSION:2.0
CALSCALE:GREGORIAN
PRODID:https://kalender.karlsruhe.de/db/termine/
METHOD:PUBLISH
BEGIN:VEVENT
UID:580848
ORGANIZER;CN=KlangKunst in der Hemingway Lounge e. V.:MAILTO:presse@hemingwaylounge.de
LOCATION:Hemingway Lounge in Karlsruhe
SUMMARY:jazz market . Kind/Wögler/Walke . Wellen im Bauch
DESCRIPTION;ENCODING=QUOTED-PRINTABLE:Lukas W=C3=B6gler (sax) . Paul Walke (g) . Tabea Kind (b)=0D=0A=0D=0A  Eintritt fre
 i    Mit gro=C3=9Fer Klarheit und feinem Gesp=C3=BCr f=C3=BCr Atmosph=C3=A4
 re erklingen die ruhigen\, folkig gef=C3=A4rbten Improvisationen auf dem Deb
 =C3=BCtalbum =E2=80=9EWellen im Bauch=E2=80=9C=C2=A0des vielversprechenden 
 jungen Jazz-Trios=C2=A0um die junge Bassistin und=C2=A0Jazzpreistr=C3=A4ger
 in Baden-W=C3=BCrttemberg=C2=A02026=C2=A0Tabea Kind. Pers=C3=B6nliche Gesch
 ichten werden in einfachen\, transparenten Kompositionen h=C3=B6rbar und ver
 schmelzen zu einem kammermusikalischen Bandklang. Ein Konzert\, das nicht la
 ut sein muss\, um lange nachzuwirken =E2=80=93 ideal f=C3=BCr einen entspann
 ten Vormittag in der Hemingway Lounge.=C2=A0Der Eintritt ist frei\, um eine 
 Spende f=C3=BCr die Musiker im Hut am Eingang wird gebeten.    =0D=0A =20
URL:https://kalender.karlsruhe.de/db/termine/musik/jazz_market_kindwoglerwalke_wellen_im_bauch
CLASS:PUBLIC
DTSTART:20260509T113000
DTEND:20260509T140000
DTSTAMP:20260415T084148
CATEGORIES:Musik
ATTACH:https://kalender.karlsruhe.de/db/termine/musik/jazz_market_kindwoglerwalke_wellen_im_bauch/file/icon_260509_HL_pic1_jazz market_Wögler et al by Lisa Wilhelm.jpg
END:VEVENT

END:VCALENDAR
