BEGIN:VCALENDAR
VERSION:2.0
CALSCALE:GREGORIAN
PRODID:https://kalender.karlsruhe.de/db/termine/
METHOD:PUBLISH
BEGIN:VEVENT
UID:580141
ORGANIZER;CN=KlangKunst in der Hemingway Lounge e. V.:MAILTO:presse@hemingwaylounge.de
LOCATION:Hemingway Lounge in Karlsruhe
SUMMARY:jazz market . STRINGTIME
DESCRIPTION;ENCODING=QUOTED-PRINTABLE:Herbert G=C3=A4rtner=C2=A0(vn) .=C2=A0Klaus Becker=C2=A0(g) .=C2=A0Matthias
  Hettel=C2=A0(g) .=C2=A0Holger Tre=C3=9F=C2=A0(b)=0D=0A=0D=0A  Das Stringtime Quart
 ett steht seit vielen Jahren f=C3=BCr hochwertige akustische Instrumentalmu
 sik in der Region. In der Besetzung Violine\, zwei Gitarren und Kontrabass p
 r=C3=A4sentieren Herbert G=C3=A4rtner\, Klaus Becker\, Matthias Hettel und Ho
 lger Tre=C3=9F mit viel Improvisationsfreude geschmackvollen Arrangements i
 n einer Mischung aus europ=C3=A4ischem Gypsy Swing und der New Acoustic Mus
 ic\, die in den 80er Jahren in den USA aufkam. Der Stil der Band l=C3=A4sst 
 sich am besten als abwechslungsreiche jazzorientierte Instrumentalmusik auf
  20 Saiten bezeichnen.  Das Repertoire reicht von Klassikern Django Reinhar
 dts =C3=BCber Kompositionen von George Gershwin und Filmmusik von Ennio Mor
 ricone bis hin zu modernen St=C3=BCcken von David Grisman. Erg=C3=A4nzt wir
 d das Programm durch eigene Interpretationen bekannter Popsongs\, die in die
 ser akustischen Besetzung eine neue klangliche Qualit=C3=A4t entwickeln.   
  Der Eintritt ist frei\, der Musiker-Hut steht am Eingang f=C3=BCr einen fre
 iwilligen Beitrag bereit.  =0D=0A=20
URL:https://kalender.karlsruhe.de/db/termine/musik/jazz_market_stringtime
CLASS:PUBLIC
DTSTART:20260425T113000
DTEND:20260425T140000
DTSTAMP:20260324T091826
CATEGORIES:Musik
ATTACH:https://kalender.karlsruhe.de/db/termine/musik/jazz_market_stringtime/file/icon_260425_HL_pic1_jazz market_Stringtime by Martin Przykutta.jpg
END:VEVENT

END:VCALENDAR
