BEGIN:VCALENDAR
VERSION:2.0
CALSCALE:GREGORIAN
PRODID:https://kalender.karlsruhe.de/db/termine/
METHOD:PUBLISH
BEGIN:VEVENT
UID:579843
ORGANIZER;CN=Hochschule für Musik :MAILTO:pressebuero@hfm-karlsruhe.de
LOCATION:Kleine Kirche Karlsruhe
SUMMARY:Jorinde Trio
DESCRIPTION;ENCODING=QUOTED-PRINTABLE:Mittagskonzert=0D=0A=0D=0A  Werke von Wolfgang Amadeus     Mozart    \, Carl     Rei
 necke    und Leon     Sundermeyer    .       =0D=0A        Es spielt das       
 Jorinde Trio:          Bianca Neumann\,    Klarinette  =0D=0A     Maja Hiemsch\, 
    Viola  =0D=0A     Sarah W=C3=B6hrle    \, Klavier      Eintritt frei =20
URL:https://kalender.karlsruhe.de/db/termine/musik/jorinde_trio
CLASS:PUBLIC
DTSTART:20260424T121500
DTEND:
DTSTAMP:20260401T175552
CATEGORIES:Musik
ATTACH:https://kalender.karlsruhe.de/db/termine/musik/jorinde_trio/file/icon_kleine_kirche_quadrat.jpg
END:VEVENT

END:VCALENDAR
