BEGIN:VCALENDAR
VERSION:2.0
CALSCALE:GREGORIAN
PRODID:https://kalender.karlsruhe.de/db/termine/
METHOD:PUBLISH
BEGIN:VEVENT
UID:569779
ORGANIZER;CN=Tollhaus Karlsruhe - Freier Kulturverein e.V.:MAILTO:info@tollhaus.de
LOCATION:Kulturzentrum Tollhaus
SUMMARY:JORIS
DESCRIPTION;ENCODING=QUOTED-PRINTABLE:Live im Tollhaus=0D=0A=0D=0AJORIS =E2=80=93 =E2=80=9Edas ist doch der Typ mit HERZ 
 U=CC=88BER KOPF\, oder?=E2=80=9C Den Song kennt wohl jeder\, aber la=CC=88uft
  die Playlist weiter fa=CC=88llt einem auf\, dass man auch Songs wie =E2=80
 =9ENur die Musik=E2=80=9C\, =E2=80=9EDu=E2=80=9C und =E2=80=9ESignal=E2=80
 =9C sofort wieder erkennt. Zwischen seinem Debu=CC=88t und dem vierten Long
 player =E2=80=9Ezu viel retro=E2=80=9C liegen rund eine halbe Milliarde Str
 eams\, drei Echos\, diverse Edelmetalle\, etliche top tens in den Radio Charts
  und drei Erfolgsalben. Was bleibt von Joris nach 10 Jahren Tanz in der deu
 tschen Musiklandschaft? Mic-Drop? Ausbrennen? Ru=CC=88ckzug? - Es gibt zu a
 llen drei Fragen kein klares Nein. =0D=0A =E2=80=9EWarum es solang gedauert hat
  mit der Musik? Weil es wichtigeres gab...=E2=80=9C Nach dem seine Freundin
  schwer erkrankte\, stellt er sich sowohl den Herausforderungen und A=CC=88n
 gsten als Partner\, als auch den neuen Verantwortungen als junger Familienva
 ter. Im Song =E2=80=9Eeigentlich=E2=80=9C versucht er es in Worte zu fassen
  =E2=80=9Eschau in zwei kleine Augen\, blindes Vertrauen und nichts bleibt w
 ie es war=E2=80=9C. =0D=0A =E2=80=9Ezu viel retro.=E2=80=9C In einer so flu=CC
 =88chtigen Welt etwas zu manifestieren\, was Bestand hat\, was bleibt und was
  einem das Gefu=CC=88hl von zuhause und Sicherheit gibt\, dafu=CC=88r steht 
 Retro. Und nein\, wenn man es so deutet\, kann es nicht genug davon geben. Jo
 ris jongliert in der Entstehungsphase des Albums mit Studio-\, Klinikbesuche
 n und Vaterdasein\, versucht das eine mit dem anderen in Einklang zu bringen
  und gleichzeitig zu trennen. Es =E2=80=9Eklappt=E2=80=9C\, doch im Nachhine
 in: =E2=80=9Emehr als genug Stoff fu=CC=88r fu=CC=88nf Alben...=E2=80=9C Es
  entsteht der Na=CC=88hrboden fu=CC=88r die textlich wilde Mischung aus Sch
 merz und lebens-bejahendem Aufbruch des Albums. =0D=0A Wie schon bei seinen Kin
 dheitshelden\, den BluesBrothers\, bringt Joris seine Band wieder zusammen. U
 nd das in dem Studio\, in dem die fu=CC=88nf Freunde bereits den ersten Long
 player aufgenommen haben. Zwar ohne Verfolgungsjagd und Hollywood Drama\, da
 fu=CC=88r aber ohne Netz und doppelten Boden. Heraus kommt energetische und
  live eingespielte Musik\, die einen mitnimmt auf seinen musikalischen Roadt
 rip durchs Leben! =0D=0A Da ist der Kernsong der Platte: =E2=80=9Edas leben ist
 ...=E2=80=9C Bei allem musikalischen U=CC=88berschwang der Band singt Joris
  Stimme ein mitrei=C3=9Fendes Bekenntnis zur Scho=CC=88nheit der Verga=CC
 =88nglichkeit. Apropos Verga=CC=88nglichkeit: Im Song =E2=80=9Eso schnell v
 orbei=E2=80=9C beschleicht einen ein Hauch von Erkenntnis... na=CC=88mlich\,
  dass man das Leben mit beiden Ha=CC=88nden fest packen und umarmen muss\, b
 evor es an einem vorbeifliegt. Diese Platte will auf die Bu=CC=88hne und di
 e Jungs scheinen sich im Studio ordentlich warm gespielt zu haben!=20
URL:https://kalender.karlsruhe.de/db/termine/musik/joris-1
CLASS:PUBLIC
DTSTART:20260801T203000
DTEND:
DTSTAMP:20250404T175551
CATEGORIES:Musik
ATTACH:https://kalender.karlsruhe.de/db/termine/musik/joris-1/file/icon_20250801_joris_c_2_luisjantsch_0125_768_679371f0c3f718.80590333_1.jpg
END:VEVENT

END:VCALENDAR
