BEGIN:VCALENDAR
VERSION:2.0
CALSCALE:GREGORIAN
PRODID:https://kalender.karlsruhe.de/db/termine/
METHOD:PUBLISH
BEGIN:VEVENT
UID:580847
ORGANIZER;CN=KlangKunst in der Hemingway Lounge e. V.:MAILTO:presse@hemingwaylounge.de
LOCATION:Hemingway Lounge in Karlsruhe
SUMMARY:Jugend jazzt . Özbakir Quartett
DESCRIPTION;ENCODING=QUOTED-PRINTABLE:Sercan =C3=96zbakir (p) . Timo K=C3=B6nig (sax) . Lukas K=C3=BChn (b) . Fel
 ix Lindau (d)=0D=0A=0D=0A=0D=0A   Das =C3=96zbakir Quartett steht f=C3=BCr eine junge G
 eneration von Jazzmusikemusikern\, die mit gro=C3=9Fer Leidenschaft und Offe
 nheit an die Tradition des Jazz ankn=C3=BCpfen und ihr zugleich eine eigene
  Stimme verleihen. Vier Musiker mit unterschiedlichen musikalischen Hinterg
 r=C3=BCnden haben sich zu einem Ensemble zusammengefunden\, das den spontane
 n Dialog und die unmittelbare Interaktion in den Mittelpunkt stellt. Aus di
 eser musikalischen Chemie entsteht ein lebendiger Bandsound\, der von Improv
 isation\, rhythmischer Energie und melodischer Klarheit gepr=C3=A4gt ist. Pi
 anist=C2=A0Sercan =C3=96zbakir\, Saxophonist=C2=A0Timo K=C3=B6nig\, Bassist
 =C2=A0Lukas K=C3=BChn=C2=A0und Schlagzeuger=C2=A0Felix Lindau=C2=A0entwicke
 ln gemeinsam eine dynamische musikalische Sprache\, die sowohl sensibel als 
 auch kraftvoll wirken kann. Ihr Spiel lebt von aufmerksamem Zusammenspiel\, 
 spontanen Ideen und einer sichtbaren Freude an der gemeinsamen musikalische
 n Gestaltung. Das Quartett vermittelt dabei eine klare Botschaft: Jazz ist 
 eine lebendige\, junge Musikform\, die immer wieder neue Ausdrucksm=C3=B6glic
 hkeiten er=C3=B6ffnet.  =0D=0A   =0D=0A =20
URL:https://kalender.karlsruhe.de/db/termine/musik/jugend_jazzt_ozbakir_quartett
CLASS:PUBLIC
DTSTART:20260508T200000
DTEND:20260508T223000
DTSTAMP:20260415T084149
CATEGORIES:Musik
ATTACH:https://kalender.karlsruhe.de/db/termine/musik/jugend_jazzt_ozbakir_quartett/file/icon_260508_HL_pic1_Özbakir Quartett.jpg
END:VEVENT

END:VCALENDAR
