BEGIN:VCALENDAR
VERSION:2.0
CALSCALE:GREGORIAN
PRODID:https://kalender.karlsruhe.de/db/termine/
METHOD:PUBLISH
BEGIN:VEVENT
UID:580484
ORGANIZER;CN=PIANO-PODIUM Karlsruhe e.V.:MAILTO:info@piano-podium.de
LOCATION:Musentempel Karlsruhe
SUMMARY:Jugendwerke von Mozart, Beethoven, Schubert, Schumann, Mendelssohn Bartholdy und Richard Strauss
DESCRIPTION;ENCODING=QUOTED-PRINTABLE:GESPR=C3=84CHSKONZERT =E2=80=93  Konzeption: Dr. Joachim Draheim =E2=80=93 
  K=C3=BCnstlerische Leitung: Prof. Sontraud Speidel=0D=0A=0D=0A
URL:https://kalender.karlsruhe.de/db/termine/musik/jugendwerke_von_mozart_beethoven_schubert
CLASS:PUBLIC
DTSTART:20260615T190000
DTEND:20260615T210000
DTSTAMP:20260330T124341
CATEGORIES:Musik
ATTACH:https://kalender.karlsruhe.de/db/termine/musik/jugendwerke_von_mozart_beethoven_schubert/file/icon_Gemälde_HelgaBrendle_mitLogo.jpg
END:VEVENT

END:VCALENDAR
