BEGIN:VCALENDAR
VERSION:2.0
CALSCALE:GREGORIAN
PRODID:https://kalender.karlsruhe.de/db/termine/
METHOD:PUBLISH
BEGIN:VEVENT
UID:580855
ORGANIZER;CN=KlangKunst in der Hemingway Lounge e. V.:MAILTO:presse@hemingwaylounge.de
LOCATION:Hemingway Lounge in Karlsruhe
SUMMARY:Junge Klassik . Romance Européennes . Duo SoHerz
DESCRIPTION;ENCODING=QUOTED-PRINTABLE:Francesca SORTENI (Sopran) . H=C3=A9l=C3=A8ne HERZBERGER (Klavier)=0D=0A=0D=0A  Das
  Duo SoHerz widmet sich mit gro=C3=9Fer Leidenschaft der europ=C3=A4ischen 
 Liedkunst. Die Sopranistin     Francesca Sorteni    und die Pianistin     H
 =C3=A9l=C3=A8ne Herzberger    verbindet eine enge musikalische Zusammenarbe
 it\, die von der Neugier auf selten gespieltes Repertoire und von einer inte
 nsiven k=C3=BCnstlerischen Partnerschaft gepr=C3=A4gt ist. Mit ihrem Progra
 mm =E2=80=9ERomance Europ=C3=A9ennes=E2=80=9C gestalten sie eine musikalisc
 he Reise durch verschiedene L=C3=A4nder Europas und pr=C3=A4sentieren Roman
 zen in unterschiedlichen Sprachen und musikalischen Traditionen. Neben beka
 nnten Komponisten der Liedliteratur stehen auch weniger h=C3=A4ufig aufgef
 =C3=BChrte Werke im Mittelpunkt\, die den kulturellen Reichtum europ=C3=A4is
 cher Musik sichtbar machen.     Francesca Sorteni    bringt ihre internatio
 nale B=C3=BChnenerfahrung als Opern- und Konzerts=C3=A4ngerin ein und gesta
 ltet die Lieder mit gro=C3=9Fer Ausdruckskraft und stilistischer Vielfalt. 
     H=C3=A9l=C3=A8ne Herzberger    \, ausgebildet in Liedbegleitung und Klav
 ier\, ist eine gefragte Pianistin f=C3=BCr Opern- und Liederabende und =C3
 =BCberzeugt durch ihr sensibles\, farbenreiches Klavierspiel. Gemeinsam entf
 alten sie einen musikalischen Dialog\, der die Vielfalt europ=C3=A4ischer St
 immen und musikalischer Traditionen eindrucksvoll erlebbar macht. (  =0D=0A=20
URL:https://kalender.karlsruhe.de/db/termine/musik/junge_klassik_romance_europeennes_duo_soherz
CLASS:PUBLIC
DTSTART:20260607T180000
DTEND:20260607T203000
DTSTAMP:20260415T085008
CATEGORIES:Musik
ATTACH:https://kalender.karlsruhe.de/db/termine/musik/junge_klassik_romance_europeennes_duo_soherz/file/icon_260607_HL_pic1_DUO SO&HERZ.jpg
END:VEVENT

END:VCALENDAR
