BEGIN:VCALENDAR
VERSION:2.0
CALSCALE:GREGORIAN
PRODID:https://kalender.karlsruhe.de/db/termine/
METHOD:PUBLISH
BEGIN:VEVENT
UID:578892
ORGANIZER;CN=Substage Karlsruhe e.V.:MAILTO:info@substage.de
LOCATION:Substage Karlsruhe e.V.
SUMMARY:Jupiter Jones
DESCRIPTION;ENCODING=QUOTED-PRINTABLE:=E2=80=9EIch trag den Sarg\, Du tr=C3=A4gst was Buntes=E2=80=9C - Tour 2026 
 =0D=0A=0D=0A  Kommt rum\, zur THE WORLDS HAPPIEST SARGTR=C3=84GER Tour! Wir sind sie
  leid\, die elende Rumhockerei! Wir haben genug gelungert! Au=C3=9Ferdem hab
 en wir ein komplettes Album auf den Weg gebracht und geprobt wie die Irren\,
  von daher w=C3=A4r=E2=80=99s jetzt mehr als d=C3=A4mlich\, nicht auf Tour z
 u gehen! Der Herbst 2026 steht f=C3=BCr uns als im Zeichen des gl=C3=BCckli
 ch-aus-dem-Leben Schwitzens und f=C3=BCr euch hoffentlich auch. Auf der aus
 gedehntesten Tour seit der Reunion machen wir einen auf bunte T=C3=BCte und
  bringen euch knapp 25 Jahre Jupiter Jones mit. Vom ersten bis zum neusten 
 Album =E2=80=9EIch trag den Sarg\, Du tr=C3=A4gst was Buntes=E2=80=9C suchen
  wir f=C3=BCr euch mit feiner Hand alles raus\, was nach einem guten Abend s
 chreit. Um und bei einen Monat haben wir euch vom Album-Release am 07.08. b
 is zum Tourstart am 18.09.2026. gelassen\, um die Texte zu lernen\, euch pfif
 fige Choreos zu =C3=BCberlegen und f=C3=BCr die Vorfreude. Die darf aber au
 ch ruhig jetzt schon sein. Alles wird gut! Wir schw=C3=B6ren!    Einlass: 1
 9:00 Uhr    Altersfreigabe: ab 16 Jahren =20
URL:https://kalender.karlsruhe.de/db/termine/musik/jupiter_jones
CLASS:PUBLIC
DTSTART:20260924T200000
DTEND:
DTSTAMP:20260331T175604
CATEGORIES:Musik
ATTACH:https://kalender.karlsruhe.de/db/termine/musik/jupiter_jones/file/icon_large-pr-2-jj-tour-c-sandra-ludewig.jpg
END:VEVENT

END:VCALENDAR
