BEGIN:VCALENDAR
VERSION:2.0
CALSCALE:GREGORIAN
PRODID:https://kalender.karlsruhe.de/db/termine/
METHOD:PUBLISH
BEGIN:VEVENT
UID:580850
ORGANIZER;CN=KlangKunst in der Hemingway Lounge e. V.:MAILTO:presse@hemingwaylounge.de
LOCATION:Hemingway Lounge in Karlsruhe
SUMMARY:„Kann denn Liebe Sünde sein?“ . „Niemals“ nach Marco Augusto
DESCRIPTION;ENCODING=QUOTED-PRINTABLE:Marco Augusto (voc & g & p) . Udo Lindenberg zum 80. Geburtstag=0D=0A=0D=0A  Mit se
 inem Programm =E2=80=9EKann denn Liebe S=C3=BCnde sein?=E2=80=9C widmet sic
 h der S=C3=A4nger und Musiker=C2=A0Marco Augusto=C2=A0den Liedern und der k
 =C3=BCnstlerischen Welt von Udo Lindenberg. Der in Mailand geborene und in 
 Karlsruhe aufgewachsene K=C3=BCnstler verbindet in diesem Konzert musikalis
 che Interpretation mit erz=C3=A4hlerischen Einblicken in Leben und Werk des
  deutschen Rockpoeten. Schon fr=C3=BCh von Lindenbergs Songs gepr=C3=A4gt\, 
 entwickelte=C2=A0Marco Augusto=C2=A0eine pers=C3=B6nliche Beziehung zu dies
 er Musik\, deren poetische Sprache und emotionaler Ausdruck ihn nachhaltig b
 eeinflussten. In seinem Soloprogramm interpretiert er ausgew=C3=A4hlte Lied
 er mit Gesang\, Gitarre und Klavier und verbindet sie mit Geschichten und Re
 flexionen =C3=BCber das Leben und die Bedeutung der Songs. Sein musikalisch
 er Zugang bewegt sich zwischen Chanson\, Liedkunst und Rocktradition und zei
 chnet sich durch eine direkte\, pers=C3=B6nliche B=C3=BChnenpr=C3=A4senz aus
 . Mit dieser Hommage w=C3=BCrdigt=C2=A0Marco Augusto=C2=A0einen K=C3=BCnstl
 er\, der die deutsche Musiklandschaft =C3=BCber Jahrzehnte hinweg gepr=C3=A4
 gt hat und dessen Songs bis heute eine besondere emotionale Kraft entfalten
 .    =0D=0A =20
URL:https://kalender.karlsruhe.de/db/termine/musik/kann_denn_liebe_sunde_sein_niemals_nach_marco_augusto
CLASS:PUBLIC
DTSTART:20260517T180000
DTEND:20260517T203000
DTSTAMP:20260415T084407
CATEGORIES:Musik
ATTACH:https://kalender.karlsruhe.de/db/termine/musik/kann_denn_liebe_sunde_sein_niemals_nach_marco_augusto/file/icon_260517_HL_pic1_Collage Lindenberg-Story.jpg
END:VEVENT

END:VCALENDAR
