BEGIN:VCALENDAR
VERSION:2.0
CALSCALE:GREGORIAN
PRODID:https://kalender.karlsruhe.de/db/termine/
METHOD:PUBLISH
BEGIN:VEVENT
UID:578262
ORGANIZER;CN=KME Karlsruhe Marketing und Event GmbH:MAILTO:info@karlsruhe-event.de
LOCATION:Karlsruhe Innenstadt
SUMMARY:Karlsruhe klingt –  music to go 2026
DESCRIPTION;ENCODING=QUOTED-PRINTABLE:Melodisches Innenstadtspektakel\, das die Einkaufsstra=C3=9Fen und Pl=C3=A4t
 ze der Karlsruher Innenstadt in musikalischen Klang taucht!=0D=0A=0D=0A  Studierend
 e und Dozierende der Hochschule f=C3=BCr Musik in Karlsruhe bringen ihre Kl
 =C3=A4nge auf die Stra=C3=9Fen der Karlsruher Innenstadt und machen diese s
 o zum Konzertsaal f=C3=BCr alle.    Ausgerichtet wird die Veranstaltung in 
 Kooperation der Karlsruher Hochschule f=C3=BCr Musik und dem Citymarketing 
 der KME.    Foto: KME | Jodo =20
URL:https://kalender.karlsruhe.de/db/termine/musik/karlsruhe_klingt_music_to_go2026n
CLASS:PUBLIC
DTSTART:20260627T120000
DTEND:20260627T180000
DTSTAMP:20260127T082020
CATEGORIES:Musik
ATTACH:https://kalender.karlsruhe.de/db/termine/musik/karlsruhe_klingt_music_to_go2026n/file/icon_Music to go 2022 - Jörg Donecker_2 12.14.02.jpg
END:VEVENT

END:VCALENDAR
