BEGIN:VCALENDAR
VERSION:2.0
CALSCALE:GREGORIAN
PRODID:https://kalender.karlsruhe.de/db/termine/
METHOD:PUBLISH
BEGIN:VEVENT
UID:580643
ORGANIZER;CN=Substage Karlsruhe e.V.:MAILTO:info@substage.de
LOCATION:Minestrone (ex Substage Café)
SUMMARY:Karlsunruhe: schlecht. & Yoshi Nardo + Civi Blue
DESCRIPTION;ENCODING=QUOTED-PRINTABLE:                                                                           
                                                                            
                                                                            
                                                                            
                                                                            
                           ...=0D=0A=0D=0A  Unter dem Label KarlsUnruhe machen je zw
 ei Acts aus der Region einmal im Monat im Minestrone "L=C3=A4rm". Ehrlicher
 weise haben wir =E2=80=9EKarlsunruhe" nicht erfunden und die =C3=84lteren e
 rinnern sich vielleicht: da gab es in den 90ern u.a. mal einen coolen Vinyl
  Sampler und eben auch Veranstaltungen im (damals noch) Subway. Wir haben e
 xtrem Lust diese Tradition nun weiterzuf=C3=BChren\, weil mal im Ernst: gibt
  es einen passenderen Namen f=C3=BCr Live Shows in und aus unser Stadt?    
   schlecht. & Yoshi Nardo    Der Rapper Yoshi Nardo und das Duo schlecht. k
 ombinieren in ihrer Musik mitrei=C3=9Fende Flows\, lyrische Komplexit=C3=A4t
  und eing=C3=A4ngige Hooks mit samplebasiertem Live Hip-Hop. Musikalisch un
 d inhaltlich beeinflusst von K=C3=BCnstler*innen wie Kendrick Lamar\, Little
  Simz und OG Keemo scha=EF=AC=80t das Trio ein einzigartiges Livekonzept\, d
 as sich stilistisch zwischen lockerem Boom Bap und modernem Trap bewegt. Yo
 shi Nardo verk=C3=B6rpert eine neue\, reflektierte Art des Mannseins\, indem 
 er sich ehrlich mit seinen Gef=C3=BChlen auseinandersetzt. Auf seiner erste
 n EP =E2=80=9EViersitzer=E2=80=9C (2025) besch=C3=A4ftigt er sich mit den Z
 ukunfts=C3=A4ngsten seiner Generation und prangert die daf=C3=BCr verantwor
 tlichen politischen Zust=C3=A4nde an\,=C2=A0ohne sich dabei abgedroschener F
 loskeln zu bedienen. Feinsinnige Beobachtungen und vielf=C3=A4ltige Referen
 zen und Zitate geben seinen Texten den Charakter eines Wimmelbilds\, in dem 
 es viel zu entdecken gibt. schlecht. besteht aus dem Produzenten beatklempn
 er und dem Drummer Johnny Walker\, die mit ihrem Deb=C3=BCtalbum =E2=80=9Evi
 lla schlecht=E2=80=9C (2025) ein modernes =E2=80=9EComing of Age=E2=80=9C-W
 erk gescha=EF=AC=80en haben. Markenzeichen der Band ist die organische Misc
 hung aus warmen Samples\, knackigen Drums und druckvollem Bass.      civi bl
 ue    fluffiger alternative rock aus Karlsruhe- Sand unter den F=C3=BC=C3
 =9Fen\, Chaos in den K=C3=B6pfen. Mit einem Mix aus psychedelischem Rock\, Po
 p\, Reggae und Hip-Hop schaffen die f=C3=BCnf Musiker aus Karlsruhe einen So
 und\, der mal tr=C3=A4umerisch und mal fragil\, provokant zwischen Hoffnung u
 nd Abgrund balanciert.    Einlass: 19:00 Uhr    Altersfreigabe: ab 16 Jahre
 n =20
URL:https://kalender.karlsruhe.de/db/termine/musik/karlsunruhe_schlecht_yoshi_nardo_civi_blue
CLASS:PUBLIC
DTSTART:20260606T200000
DTEND:
DTSTAMP:20260331T175604
CATEGORIES:Musik
ATTACH:https://kalender.karlsruhe.de/db/termine/musik/karlsunruhe_schlecht_yoshi_nardo_civi_blue/file/icon_large-yoshi-schlecht-quer-by-laura-rukavina.jpg
END:VEVENT

END:VCALENDAR
