BEGIN:VCALENDAR
VERSION:2.0
CALSCALE:GREGORIAN
PRODID:https://kalender.karlsruhe.de/db/termine/
METHOD:PUBLISH
BEGIN:VEVENT
UID:571614
ORGANIZER;CN=Tollhaus Karlsruhe - Freier Kulturverein e.V.:MAILTO:info@tollhaus.de
LOCATION:Kulturzentrum Tollhaus
SUMMARY:KASALLA
DESCRIPTION;ENCODING=QUOTED-PRINTABLE:"Trone & Konfetti Tour 2026"=0D=0A=0D=0A15 Jahre Kasalla: Tr=C3=A4nen. Und Konfetti
 . =0D=0A Die f=C3=BCnf Jungs aus K=C3=B6ln starten 2026 mit einer gro=C3=9Fen T
 our und einem brandneuen Studioalbum in die n=C3=A4chste Runde =E2=80=93und
  der Titel der Tour sagt alles: =E2=80=9ETrone & Konfetti=E2=80=9C. Tr=C3
 =A4nen und Konfetti =E2=80=93das ist das\, was bleibt\, wenn man mit dieser B
 and unterwegs war. Zwischen Stadion Moment und Clubschwei=C3=9F\, zwischen k
 =C3=B6lscher Melancholie und kollektiver Euphorie. Die neue Tour bringt gen
 au dieses Gef=C3=BChl auf die B=C3=BChne: das pralle Leben\, das Weinen vor 
 Gl=C3=BCck\, das Mitsingen mit G=C3=A4nsehaut. Und wie es sich f=C3=BCr ein 
 Jubil=C3=A4um geh=C3=B6rt\, bringen Kasalla auch neues Material mit: Das ins
 gesamt 6. Studioalbum geht mit auf Klassenfahrt im Fr=C3=BChjahr\, mit jeder
  Menge Herz\, Energie und Geschichten\, wie sie nur Kasalla erz=C3=A4hlen kan
 n.=20
URL:https://kalender.karlsruhe.de/db/termine/musik/kasalla
CLASS:PUBLIC
DTSTART:20260507T200000
DTEND:
DTSTAMP:20250612T175542
CATEGORIES:Musik
ATTACH:https://kalender.karlsruhe.de/db/termine/musik/kasalla/file/icon_20260507_kasalla_1173-scaled_c.benwolf_683ee470cfc780.57765597.jpg
END:VEVENT

END:VCALENDAR
