BEGIN:VCALENDAR
VERSION:2.0
CALSCALE:GREGORIAN
PRODID:https://kalender.karlsruhe.de/db/termine/
METHOD:PUBLISH
BEGIN:VEVENT
UID:579184
ORGANIZER;CN=marotte Theater:MAILTO:info@marotte-theater.de
LOCATION:marotte Theater
SUMMARY:Kasper, Krach und Abrissbirne (ab 5 Jahren)
DESCRIPTION;ENCODING=QUOTED-PRINTABLE:Ein etwas anderes Kasperst=C3=BCck=0D=0A=0D=0A  So ein Haus ist doch schnell gebaut
 ! Man braucht nur paar Bretter\, bisschen Farbe\, paar N=C3=A4gel und viel Sp
 ucke. (Igitt!)  =0D=0A  So macht sich der Kasper frisch ans Werk.  =0D=0A  Doch dan
 n geht alles schief. Auch das Haus. Und der Spieler.( Aua!)  =0D=0A  Da hat doc
 h der Teufel seine Finger im Spiel!  =0D=0A  Und so wird aus einem harmlosen H
 =C3=A4uslebau eine Riesenkatastrophe.  =0D=0A  (Sehr unterhaltsam!)    Ein etwa
 s anderes Kasperst=C3=BCck f=C3=BCr alle ab 5 mit ohne moralischen Zeigefin
 ger. (Da hat n=C3=A4mlich jemand draufgehauen!!!) =20
URL:https://kalender.karlsruhe.de/db/termine/musik/kasper_krach_und_abrissbirne_ab_5_jahren-1
CLASS:PUBLIC
DTSTART:20260516T140000
DTEND:20260516T145000
DTSTAMP:20260223T081154
CATEGORIES:Theater, Tanz
ATTACH:https://kalender.karlsruhe.de/db/termine/theater/kasper_krach_und_abrissbirne_ab_5_jahren-1/file/icon_Kasper baut ein Haus 1.jpg
END:VEVENT

END:VCALENDAR
