BEGIN:VCALENDAR
VERSION:2.0
CALSCALE:GREGORIAN
PRODID:https://kalender.karlsruhe.de/db/termine/
METHOD:PUBLISH
BEGIN:VEVENT
UID:569830
ORGANIZER;CN=Kantorat der Ev. Stadtkirche Karlsruhe:MAILTO:kantorat@stadtkirche-karlsruhe.de
LOCATION:Kleine Kirche Karlsruhe
SUMMARY:„KI - Künstlerische Intelligenz“
DESCRIPTION;ENCODING=QUOTED-PRINTABLE:Was macht =E2=80=9EK=C3=BCnstlerische Intelligenz=E2=80=9C mit den Epochen 
 von Barock bis Gegenwart? Dmitri Dichtiar\, Violoncello I Pavel Khlopovskiy\,
  Gitarre=0D=0A=0D=0A  =E2=80=9EKI - K=C3=BCnstlerische Intelligenz=E2=80=9C    Was 
 macht =E2=80=9EK=C3=BCnstlerische Intelligenz=E2=80=9C mit den Epochen von 
 Barock bis Gegenwart?    Dmitri Dichtiar\, Violoncello    Pavel Khlopovskiy\,
  Gitarre =20
URL:https://kalender.karlsruhe.de/db/termine/musik/ki_kunstlerische_intelligenz
CLASS:PUBLIC
DTSTART:20260523T190000
DTEND:
DTSTAMP:20260203T150437
CATEGORIES:Musik
ATTACH:https://kalender.karlsruhe.de/db/termine/musik/ki_kunstlerische_intelligenz/file/icon_Kleine_Kirche_Karlsruhe_Gr.jpg
END:VEVENT

END:VCALENDAR
